BEGIN:VCALENDAR
VERSION:2.0
PRODID:-//La Sardegna verso l&#039;Unesco - ECPv6.15.20//NONSGML v1.0//EN
CALSCALE:GREGORIAN
METHOD:PUBLISH
X-WR-CALNAME:La Sardegna verso l&#039;Unesco
X-ORIGINAL-URL:https://sardegnaversounesco.org
X-WR-CALDESC:Eventi per La Sardegna verso l&#039;Unesco
REFRESH-INTERVAL;VALUE=DURATION:PT1H
X-Robots-Tag:noindex
X-PUBLISHED-TTL:PT1H
BEGIN:VTIMEZONE
TZID:Europe/Rome
BEGIN:DAYLIGHT
TZOFFSETFROM:+0100
TZOFFSETTO:+0200
TZNAME:CEST
DTSTART:20250330T010000
END:DAYLIGHT
BEGIN:STANDARD
TZOFFSETFROM:+0200
TZOFFSETTO:+0100
TZNAME:CET
DTSTART:20251026T010000
END:STANDARD
BEGIN:DAYLIGHT
TZOFFSETFROM:+0100
TZOFFSETTO:+0200
TZNAME:CEST
DTSTART:20260329T010000
END:DAYLIGHT
BEGIN:STANDARD
TZOFFSETFROM:+0200
TZOFFSETTO:+0100
TZNAME:CET
DTSTART:20261025T010000
END:STANDARD
BEGIN:DAYLIGHT
TZOFFSETFROM:+0100
TZOFFSETTO:+0200
TZNAME:CEST
DTSTART:20270328T010000
END:DAYLIGHT
BEGIN:STANDARD
TZOFFSETFROM:+0200
TZOFFSETTO:+0100
TZNAME:CET
DTSTART:20271031T010000
END:STANDARD
END:VTIMEZONE
BEGIN:VEVENT
DTSTART;TZID=Europe/Rome:20260310T173000
DTEND;TZID=Europe/Rome:20260310T200000
DTSTAMP:20260422T122212
CREATED:20260305T090637Z
LAST-MODIFIED:20260306T120014Z
UID:78349-1773163800-1773172800@sardegnaversounesco.org
SUMMARY:Sulle tracce del nostro antico DNA. In viaggio attraverso il Mediterraneo
DESCRIPTION:Valeria Nurchi\, Socia APS La Sardegna verso l’Unesco\nPaolo Francalacci\, Professore di Genetica UniCa
URL:https://sardegnaversounesco.org/evento/sulle-tracce-del-nostro-antico-dna-in-viaggio-attraverso-il-mediterraneo/
LOCATION:Carbonia\, Nuraghe Sirai\, Carbonia\, Italy
CATEGORIES:Gli appuntamenti dell'Associazione
ATTACH;FMTTYPE=image/jpeg:https://sardegnaversounesco.org/wp-content/uploads/2026/03/1-EGG_Carbonia_10-marzo_260301.jpg
END:VEVENT
BEGIN:VEVENT
DTSTART;TZID=Europe/Rome:20260312T163000
DTEND;TZID=Europe/Rome:20260312T200000
DTSTAMP:20260422T122212
CREATED:20260305T092316Z
LAST-MODIFIED:20260306T120237Z
UID:78357-1773333000-1773345600@sardegnaversounesco.org
SUMMARY:Ma i sardi navigavano? La Sardegna nuragica e il Mediterraneo
DESCRIPTION:Roberto Timo\, Socio APS La Sardegna verso l’Unesco\nGiovanna Fundoni\, Ricercatrice Preistoria e Protostoria UniSS
URL:https://sardegnaversounesco.org/evento/ma-i-sardi-navigavano-la-sardegna-nuragica-e-il-mediterraneo/
LOCATION:Tempio Pausania\, Convento degli Scolopi\, Tempio Pausania\, Italy
CATEGORIES:Gli appuntamenti dell'Associazione
ATTACH;FMTTYPE=image/jpeg:https://sardegnaversounesco.org/wp-content/uploads/2026/03/2-EGG_Tempio_12-marzo_260301.jpg
END:VEVENT
BEGIN:VEVENT
DTSTART;TZID=Europe/Rome:20260317T180000
DTEND;TZID=Europe/Rome:20260317T200000
DTSTAMP:20260422T122212
CREATED:20260305T092724Z
LAST-MODIFIED:20260306T120255Z
UID:78361-1773770400-1773777600@sardegnaversounesco.org
SUMMARY:Quanti sono i nuraghi? Proviamo a contarli insieme
DESCRIPTION:Pierpaolo Vargiu\, Presidente APS La Sardegna verso l’Unesco\nFabio Pinna\, Professore di Archeologia Pubblica UniCa
URL:https://sardegnaversounesco.org/evento/quanti-sono-i-nuraghi-proviamo-a-contarli-insieme/
LOCATION:Sa Manifattura\, Viale Regina Margherita\, 33\, Cagliari\, CA\, 09125\, Italia
CATEGORIES:Gli appuntamenti dell'Associazione
ATTACH;FMTTYPE=image/jpeg:https://sardegnaversounesco.org/wp-content/uploads/2026/03/3-EGG_Cagliari_17marzo_260301.jpg
END:VEVENT
BEGIN:VEVENT
DTSTART;TZID=Europe/Rome:20260319T173000
DTEND;TZID=Europe/Rome:20260319T200000
DTSTAMP:20260422T122212
CREATED:20260305T093148Z
LAST-MODIFIED:20260306T120314Z
UID:78365-1773941400-1773950400@sardegnaversounesco.org
SUMMARY:I nuraghi tra identità\, cultura e sviluppo
DESCRIPTION:Pierpaolo Vargiu\, Presidente APS La Sardegna verso l’Unesco\nRaffaele Paci\, Professore di Economia UniCa
URL:https://sardegnaversounesco.org/evento/i-nuraghi-tra-identita-cultura-e-sviluppo/
LOCATION:Oristano\, Sala Conferenze Hospitalis Sancti Antoni\, Oristano\, Italy
CATEGORIES:Gli appuntamenti dell'Associazione
ATTACH;FMTTYPE=image/jpeg:https://sardegnaversounesco.org/wp-content/uploads/2026/03/4-EGG_Oristano_19-marzo_260301.jpg
END:VEVENT
BEGIN:VEVENT
DTSTART;TZID=Europe/Rome:20260324T163000
DTEND;TZID=Europe/Rome:20260324T200000
DTSTAMP:20260422T122212
CREATED:20260305T094525Z
LAST-MODIFIED:20260306T120339Z
UID:78374-1774369800-1774382400@sardegnaversounesco.org
SUMMARY:Presi per mano dai giganti di Mont’e Prama. Dove andiamo?
DESCRIPTION:Giampaolo Pitzurra\, Socio APS La Sardegna verso l’Unesco\nBibi Pinna\, Fotografo\nAlessandra Cossu\, Fotografa
URL:https://sardegnaversounesco.org/evento/presi-per-mano-dai-giganti-di-monte-prama-dove-andiamo/
LOCATION:Tempio Pausania\, Convento degli Scolopi\, Tempio Pausania\, Italy
CATEGORIES:Gli appuntamenti dell'Associazione
ATTACH;FMTTYPE=image/jpeg:https://sardegnaversounesco.org/wp-content/uploads/2026/03/6-EGG_Tempio_24-marzo_260301.jpg
END:VEVENT
BEGIN:VEVENT
DTSTART;TZID=Europe/Rome:20260324T173000
DTEND;TZID=Europe/Rome:20260324T200000
DTSTAMP:20260422T122212
CREATED:20260305T093450Z
LAST-MODIFIED:20260306T120352Z
UID:78370-1774373400-1774382400@sardegnaversounesco.org
SUMMARY:Nuraghi. Lo scatto fotografico che riesce a far parlare la bellezza
DESCRIPTION:Giampaolo Pitzurra\, Socio APS La Sardegna verso l’Unesco\nBibi Pinna\, Fotografo\nAlessandra Cossu\, Fotografa
URL:https://sardegnaversounesco.org/evento/nuraghi-lo-scatto-fotografico-che-riesce-a-far-parlare-la-bellezza/
LOCATION:Carbonia\, Nuraghe Sirai\, Carbonia\, Italy
CATEGORIES:Gli appuntamenti dell'Associazione
ATTACH;FMTTYPE=image/jpeg:https://sardegnaversounesco.org/wp-content/uploads/2026/03/5-EGG_Carbonia_24-marzo_260301.jpg
END:VEVENT
BEGIN:VEVENT
DTSTART;TZID=Europe/Rome:20260330T180000
DTEND;TZID=Europe/Rome:20260330T200000
DTSTAMP:20260422T122212
CREATED:20260305T094840Z
LAST-MODIFIED:20260306T120407Z
UID:78379-1774893600-1774900800@sardegnaversounesco.org
SUMMARY:Cosa dice il nostro DNA
DESCRIPTION:Roberto Timo\, Socio APS La Sardegna verso l’Unesco\nFrancesco Cucca\, Professore di Genetica UniSS
URL:https://sardegnaversounesco.org/evento/cosa-dice-il-nostro-dna/
LOCATION:Sassari\, via Carlo Alberto\, 7\, Sassari\, Italy
CATEGORIES:Gli appuntamenti dell'Associazione
ATTACH;FMTTYPE=image/jpeg:https://sardegnaversounesco.org/wp-content/uploads/2026/03/7-EGG_Sassari_30-marzo_260301.jpg
END:VEVENT
BEGIN:VEVENT
DTSTART;TZID=Europe/Rome:20260331T180000
DTEND;TZID=Europe/Rome:20260331T200000
DTSTAMP:20260422T122212
CREATED:20260305T095307Z
LAST-MODIFIED:20260306T120423Z
UID:78383-1774980000-1774987200@sardegnaversounesco.org
SUMMARY:Ricerche archeologiche nell’alta Marmilla
DESCRIPTION:Sandra Tobia\, Socia APS La Sardegna verso l’Unesco\nEmerenziana Usai\, Archeologa
URL:https://sardegnaversounesco.org/evento/ricerche-archeologiche-nellalta-marmilla/
LOCATION:Sa Manifattura\, Viale Regina Margherita\, 33\, Cagliari\, CA\, 09125\, Italia
CATEGORIES:Gli appuntamenti dell'Associazione
ATTACH;FMTTYPE=image/jpeg:https://sardegnaversounesco.org/wp-content/uploads/2026/03/8-EGG_Cagliari_31marzo_260301.jpg
END:VEVENT
END:VCALENDAR