BEGIN:VCALENDAR
VERSION:2.0
PRODID:-//La Sardegna verso l&#039;Unesco - ECPv6.15.20//NONSGML v1.0//EN
CALSCALE:GREGORIAN
METHOD:PUBLISH
X-ORIGINAL-URL:https://sardegnaversounesco.org
X-WR-CALDESC:Eventi per La Sardegna verso l&#039;Unesco
REFRESH-INTERVAL;VALUE=DURATION:PT1H
X-Robots-Tag:noindex
X-PUBLISHED-TTL:PT1H
BEGIN:VTIMEZONE
TZID:Europe/Rome
BEGIN:DAYLIGHT
TZOFFSETFROM:+0100
TZOFFSETTO:+0200
TZNAME:CEST
DTSTART:20240331T010000
END:DAYLIGHT
BEGIN:STANDARD
TZOFFSETFROM:+0200
TZOFFSETTO:+0100
TZNAME:CET
DTSTART:20241027T010000
END:STANDARD
BEGIN:DAYLIGHT
TZOFFSETFROM:+0100
TZOFFSETTO:+0200
TZNAME:CEST
DTSTART:20250330T010000
END:DAYLIGHT
BEGIN:STANDARD
TZOFFSETFROM:+0200
TZOFFSETTO:+0100
TZNAME:CET
DTSTART:20251026T010000
END:STANDARD
BEGIN:DAYLIGHT
TZOFFSETFROM:+0100
TZOFFSETTO:+0200
TZNAME:CEST
DTSTART:20260329T010000
END:DAYLIGHT
BEGIN:STANDARD
TZOFFSETFROM:+0200
TZOFFSETTO:+0100
TZNAME:CET
DTSTART:20261025T010000
END:STANDARD
END:VTIMEZONE
BEGIN:VEVENT
DTSTART;TZID=Europe/Rome:20251209T180000
DTEND;TZID=Europe/Rome:20251209T193000
DTSTAMP:20260420T153502
CREATED:20250909T161050Z
LAST-MODIFIED:20250909T161050Z
UID:69075-1765303200-1765308600@sardegnaversounesco.org
SUMMARY:Cosa ci dice il DNA sull'origine dei sardi
DESCRIPTION:Maurizio Melis Socio Associazione\nFrancesco Cucca Professore di genetica UniSS
URL:https://sardegnaversounesco.org/evento/cosa-ci-dice-il-dna-sullorigine-dei-sardi/
LOCATION:Sa Manifattura\, Viale Regina Margherita\, 33\, Cagliari\, CA\, 09125\, Italia
CATEGORIES:Gli appuntamenti dell'Associazione
ATTACH;FMTTYPE=image/jpeg:https://sardegnaversounesco.org/wp-content/uploads/2025/09/18-LSvU_APP_CA_sito_09.12.2025.jpg
END:VEVENT
END:VCALENDAR