BEGIN:VCALENDAR
VERSION:2.0
PRODID:-//La Sardegna verso l&#039;Unesco - ECPv6.15.20//NONSGML v1.0//EN
CALSCALE:GREGORIAN
METHOD:PUBLISH
X-WR-CALNAME:La Sardegna verso l&#039;Unesco
X-ORIGINAL-URL:https://sardegnaversounesco.org
X-WR-CALDESC:Eventi per La Sardegna verso l&#039;Unesco
REFRESH-INTERVAL;VALUE=DURATION:PT1H
X-Robots-Tag:noindex
X-PUBLISHED-TTL:PT1H
BEGIN:VTIMEZONE
TZID:Europe/Rome
BEGIN:DAYLIGHT
TZOFFSETFROM:+0100
TZOFFSETTO:+0200
TZNAME:CEST
DTSTART:20240331T010000
END:DAYLIGHT
BEGIN:STANDARD
TZOFFSETFROM:+0200
TZOFFSETTO:+0100
TZNAME:CET
DTSTART:20241027T010000
END:STANDARD
BEGIN:DAYLIGHT
TZOFFSETFROM:+0100
TZOFFSETTO:+0200
TZNAME:CEST
DTSTART:20250330T010000
END:DAYLIGHT
BEGIN:STANDARD
TZOFFSETFROM:+0200
TZOFFSETTO:+0100
TZNAME:CET
DTSTART:20251026T010000
END:STANDARD
BEGIN:DAYLIGHT
TZOFFSETFROM:+0100
TZOFFSETTO:+0200
TZNAME:CEST
DTSTART:20260329T010000
END:DAYLIGHT
BEGIN:STANDARD
TZOFFSETFROM:+0200
TZOFFSETTO:+0100
TZNAME:CET
DTSTART:20261025T010000
END:STANDARD
END:VTIMEZONE
BEGIN:VEVENT
DTSTART;TZID=Europe/Rome:20251001T173000
DTEND;TZID=Europe/Rome:20251001T190000
DTSTAMP:20260420T154620
CREATED:20250909T161108Z
LAST-MODIFIED:20250909T161108Z
UID:68997-1759339800-1759345200@sardegnaversounesco.org
SUMMARY:Sardegna Nuragica tra identità\, cultura e sviluppo
DESCRIPTION:Pierpaolo Vargiu Presidente Associazione\nRaffaele Paci Professore di economia UniCA
URL:https://sardegnaversounesco.org/evento/sardegna-nuragica-tra-identita-cultura-e-sviluppo/
LOCATION:Tempio Pausania\, Convento degli Scolopi\, Tempio Pausania\, Italy
CATEGORIES:Gli appuntamenti dell'Associazione
ATTACH;FMTTYPE=image/jpeg:https://sardegnaversounesco.org/wp-content/uploads/2025/09/WhatsApp-Image-2025-09-17-at-10.17.25-1.jpeg
END:VEVENT
BEGIN:VEVENT
DTSTART;TZID=Europe/Rome:20251004T101500
DTEND;TZID=Europe/Rome:20251004T130000
DTSTAMP:20260420T154620
CREATED:20250909T161109Z
LAST-MODIFIED:20250909T161109Z
UID:68973-1759572900-1759582800@sardegnaversounesco.org
SUMMARY:Nuraghe Arrubiu e Museo di Orroli
DESCRIPTION:Visita al Nuraghe Arrubiu e Museo di Orroli \nRitrovo: ore 10.15 all’ingresso del sito \nVisita: dalle 10.30 alle 13 \nGuida: Mauro Perra\, archeologo \nTrasporto: con mezzi propri \nNr. massimo partecipanti: 50 \nPartecipazione: riservata agli “Amici dell’associazione”\n(La partecipazione è riservata agli “Amici della Associazione”. Per chi non lo fosse già\, si comunica che è possibile iscriversi versando 10 euro sul cc IBAN IT 90D0306909606100000401099)
URL:https://sardegnaversounesco.org/evento/nuraghe-arrubiu-e-museo-di-orroli/
LOCATION:Orroli\, località Su Pranu\, Orroli\, sud sardegna\, 09061
CATEGORIES:Itinerari Nuragici
ATTACH;FMTTYPE=image/jpeg:https://sardegnaversounesco.org/wp-content/uploads/2025/09/PHOTO-2025-09-18-18-10-10.jpg
END:VEVENT
BEGIN:VEVENT
DTSTART;TZID=Europe/Rome:20251007T173000
DTEND;TZID=Europe/Rome:20251007T190000
DTSTAMP:20260420T154620
CREATED:20250909T161107Z
LAST-MODIFIED:20251006T083500Z
UID:69001-1759858200-1759863600@sardegnaversounesco.org
SUMMARY:Sardegna Nuragica tra identità\, cultura e sviluppo
DESCRIPTION:Pierpaolo Vargiu Presidente Associazione.\nAnna Depalmas Professoressa di preistoria e protostoria UniSS.\nRaffaele Paci Professore di economia UniCA.
URL:https://sardegnaversounesco.org/evento/sardegna-nuragica-tra-identita-cultura-e-sviluppo-3/
LOCATION:Sassari\, via Carlo Alberto\, 7\, Sassari\, Italy
CATEGORIES:Gli appuntamenti dell'Associazione
ATTACH;FMTTYPE=image/jpeg:https://sardegnaversounesco.org/wp-content/uploads/2025/09/3-LSvU_APP_SS_sito_07.10.2025.jpg
END:VEVENT
BEGIN:VEVENT
DTSTART;TZID=Europe/Rome:20251008T173000
DTEND;TZID=Europe/Rome:20251008T190000
DTSTAMP:20260420T154620
CREATED:20250909T161107Z
LAST-MODIFIED:20250909T161107Z
UID:69005-1759944600-1759950000@sardegnaversounesco.org
SUMMARY:Territorio e architettura nella Gallura nuragica: il nuraghe Majori
DESCRIPTION:Gianfranco Cocco – Socio Associazione\nAngela Antona – Archeologa
URL:https://sardegnaversounesco.org/evento/territorio-e-architettura-nella-gallura-nuragica-il-nuraghe-majori/
LOCATION:Tempio Pausania\, Convento degli Scolopi\, Tempio Pausania\, Italy
CATEGORIES:Gli appuntamenti dell'Associazione
ATTACH;FMTTYPE=image/jpeg:https://sardegnaversounesco.org/wp-content/uploads/2025/09/WhatsApp-Image-2025-09-17-at-10.17.25.jpeg
END:VEVENT
BEGIN:VEVENT
DTSTART;TZID=Europe/Rome:20251011T101500
DTEND;TZID=Europe/Rome:20251011T130000
DTSTAMP:20260420T154620
CREATED:20250909T161109Z
LAST-MODIFIED:20250909T161109Z
UID:68979-1760177700-1760187600@sardegnaversounesco.org
SUMMARY:Complesso nuragico di Santa Vittoria di Serri
DESCRIPTION:Visita al Complesso nuragico di Santa Vittoria di Serri \nRitrovo: ore 10.15 all’ingresso del sito \nVisita: dalle 10.30 alle 13 \nGuida: Federico Porcedda\, archeologo \nTrasporto: con mezzi propri \nNr. massimo partecipanti: 50 \nPartecipazione: riservata agli “Amici dell’associazione”\n(La partecipazione è riservata agli “Amici della Associazione”. Per chi non lo fosse già\, si comunica che è possibile iscriversi versando 10 euro sul cc IBAN IT 90D0306909606100000401099)
URL:https://sardegnaversounesco.org/evento/complesso-nuragico-di-santa-vittoria-di-serri/
LOCATION:Complesso nuragico Santa Vittoria di Serri\, Area archeologica Santa Vittoria di Serri\, Serri\, Cagliari\, Italy
CATEGORIES:Itinerari Nuragici
ATTACH;FMTTYPE=image/jpeg:https://sardegnaversounesco.org/wp-content/uploads/2025/09/PHOTO-2025-09-18-18-10-10-1-1.jpg
END:VEVENT
BEGIN:VEVENT
DTSTART;TZID=Europe/Rome:20251014T180000
DTEND;TZID=Europe/Rome:20251014T193000
DTSTAMP:20260420T154620
CREATED:20250909T161106Z
LAST-MODIFIED:20250909T161106Z
UID:69014-1760464800-1760470200@sardegnaversounesco.org
SUMMARY:Il nuraghe Arrubiu ci racconta la storia dell'antica civiltà sarda
DESCRIPTION:Antonello Sanna Socio Associazione\nFulvia Lo Schiavo già Soprintendente Archeologa MIBACT\nMauro Perra Direttore del Museo Archeologico “Su Mulinu” di Villanovafranca
URL:https://sardegnaversounesco.org/evento/il-nuraghe-arrubiu-ci-racconta-la-storia-dellantica-civilta-sarda/
LOCATION:Sa Manifattura\, Viale Regina Margherita\, 33\, Cagliari\, CA\, 09125\, Italia
CATEGORIES:Gli appuntamenti dell'Associazione
ATTACH;FMTTYPE=image/jpeg:https://sardegnaversounesco.org/wp-content/uploads/2025/09/6-LSvU_APP_CA_sito_14.10.2025.jpg
END:VEVENT
BEGIN:VEVENT
DTSTART;TZID=Europe/Rome:20251016T173000
DTEND;TZID=Europe/Rome:20251016T190000
DTSTAMP:20260420T154620
CREATED:20250909T161106Z
LAST-MODIFIED:20250909T161106Z
UID:69009-1760635800-1760641200@sardegnaversounesco.org
SUMMARY:Sardegna Nuragica tra identità\, cultura e sviluppo
DESCRIPTION:Pierpaolo Vargiu Presidente Associazione\nRiccardo Cicilloni Archeologo\, Professore di preistoria e protostoria UniCA\nRaffaele Paci Professore di economia UniCA
URL:https://sardegnaversounesco.org/evento/sardegna-nuragica-tra-identita-cultura-e-sviluppo-2/
LOCATION:Carbonia\, Nuraghe Sirai\, Carbonia\, Italy
CATEGORIES:Gli appuntamenti dell'Associazione
ATTACH;FMTTYPE=image/jpeg:https://sardegnaversounesco.org/wp-content/uploads/2025/09/5-LSvU_APP_Carbonia_sito_16.10.2025.jpg
END:VEVENT
BEGIN:VEVENT
DTSTART;TZID=Europe/Rome:20251020T173000
DTEND;TZID=Europe/Rome:20251020T190000
DTSTAMP:20260420T154620
CREATED:20250909T161106Z
LAST-MODIFIED:20251007T151649Z
UID:69018-1760981400-1760986800@sardegnaversounesco.org
SUMMARY:L'immagine dei nuraghi tra arte\, scienza e tecnologia
DESCRIPTION:Sandra Tobia Socia Associazione\nEnrico Cicalò Professore di architettura UniSS
URL:https://sardegnaversounesco.org/evento/limmagine-dei-nuraghi-tra-arte-scienza-e-tecnologia/
LOCATION:Sassari\, via Carlo Alberto\, 7\, Sassari\, Italy
CATEGORIES:Gli appuntamenti dell'Associazione
ATTACH;FMTTYPE=image/jpeg:https://sardegnaversounesco.org/wp-content/uploads/2025/09/7-LSvU_APP_SS_sito_20.10.2025.jpg
END:VEVENT
BEGIN:VEVENT
DTSTART;TZID=Europe/Rome:20251022T173000
DTEND;TZID=Europe/Rome:20251022T190000
DTSTAMP:20260420T154620
CREATED:20250909T161058Z
LAST-MODIFIED:20251013T082727Z
UID:69058-1761154200-1761159600@sardegnaversounesco.org
SUMMARY:Cinquant'anni di Mont'e Prama: dalla scoperta alla fruizione\, alla valorizzazione
DESCRIPTION:Paolo Tola Socio Associazione\nViviana Pinna Archeologa Fondazione Mont’e Prama
URL:https://sardegnaversounesco.org/evento/cinquantanni-di-monte-prama-dalla-scoperta-alla-fruizione-alla-valorizzazione/
LOCATION:olbia\, Via Porto Romano\, 8\, Olbia\, Italy
CATEGORIES:Gli appuntamenti dell'Associazione
ATTACH;FMTTYPE=image/png:https://sardegnaversounesco.org/wp-content/uploads/2025/09/APPUNTAMENTI-OLBIAloghi-22.png
END:VEVENT
BEGIN:VEVENT
DTSTART;TZID=Europe/Rome:20251025T101500
DTEND;TZID=Europe/Rome:20251025T130000
DTSTAMP:20260420T154620
CREATED:20250909T161108Z
LAST-MODIFIED:20250909T161108Z
UID:68984-1761387300-1761397200@sardegnaversounesco.org
SUMMARY:Mont'e Prama e museo di Cabras
DESCRIPTION:Visita di Mont’e Prama e museo di Cabras \nRitrovo: ore 10.15 all’ingresso del sito \nVisita: dalle 10.30 alle 13 \nGuida: Viviana Pinna\, archeologa \nTrasporto: con mezzi propri \nNr. massimo partecipanti: 50 \nPartecipazione: riservata agli “Amici dell’associazione”\n(La partecipazione è riservata agli “Amici della Associazione”. Per chi non lo fosse già\, si comunica che è possibile iscriversi versando 10 euro sul cc IBAN IT 90D0306909606100000401099)
URL:https://sardegnaversounesco.org/evento/monte-prama-e-museo-di-cabras/
LOCATION:Cabras\, Cabras\, Oristano\, Italy
CATEGORIES:Itinerari Nuragici
ATTACH;FMTTYPE=image/jpeg:https://sardegnaversounesco.org/wp-content/uploads/2025/09/WhatsApp-Image-2025-09-11-at-10.03.59-1.jpeg
END:VEVENT
BEGIN:VEVENT
DTSTART;TZID=Europe/Rome:20251028T180000
DTEND;TZID=Europe/Rome:20251028T193000
DTSTAMP:20260420T154620
CREATED:20250909T161105Z
LAST-MODIFIED:20250909T161105Z
UID:69030-1761674400-1761679800@sardegnaversounesco.org
SUMMARY:Abitare all'ombra dei nuraghi. Storie di vita e di morte raccontate da recenti ricerche archeologiche
DESCRIPTION:Sandra Tobia Socia Associazione\nGianfranca Salis Archeologa SABAP CA OR e Sud Sardegna
URL:https://sardegnaversounesco.org/evento/abitare-allombra-dei-nuraghi-storie-di-vita-e-di-morte-raccontate-da-recenti-ricerche-archeologiche/
LOCATION:Sa Manifattura\, Viale Regina Margherita\, 33\, Cagliari\, CA\, 09125\, Italia
CATEGORIES:Gli appuntamenti dell'Associazione
ATTACH;FMTTYPE=image/jpeg:https://sardegnaversounesco.org/wp-content/uploads/2025/09/9-LSvU_APP_CA_sito_28.10.2025.jpg
END:VEVENT
BEGIN:VEVENT
DTSTART;TZID=Europe/Rome:20251030T173000
DTEND;TZID=Europe/Rome:20251030T190000
DTSTAMP:20260420T154620
CREATED:20250909T161105Z
LAST-MODIFIED:20250909T161105Z
UID:69034-1761845400-1761850800@sardegnaversounesco.org
SUMMARY:L'esperimento sardo-fenicio nel Sulcis. Il nuraghe Sirai
DESCRIPTION:Ennio Filigheddu Socio Associazione\nCarla Perra Archeologa\, Comune di Carbonia
URL:https://sardegnaversounesco.org/evento/lesperimento-sardo-fenicio-nel-sulcis-il-nuraghe-sirai/
LOCATION:Carbonia\, Nuraghe Sirai\, Carbonia\, Italy
CATEGORIES:Gli appuntamenti dell'Associazione
ATTACH;FMTTYPE=image/jpeg:https://sardegnaversounesco.org/wp-content/uploads/2025/09/10-LSvU_APP_Carbonia_sito_30.10.2025.jpg
END:VEVENT
END:VCALENDAR