BEGIN:VCALENDAR
VERSION:2.0
PRODID:-//La Sardegna verso l&#039;Unesco - ECPv6.15.20//NONSGML v1.0//EN
CALSCALE:GREGORIAN
METHOD:PUBLISH
X-WR-CALNAME:La Sardegna verso l&#039;Unesco
X-ORIGINAL-URL:https://sardegnaversounesco.org
X-WR-CALDESC:Eventi per La Sardegna verso l&#039;Unesco
REFRESH-INTERVAL;VALUE=DURATION:PT1H
X-Robots-Tag:noindex
X-PUBLISHED-TTL:PT1H
BEGIN:VTIMEZONE
TZID:Europe/Rome
BEGIN:DAYLIGHT
TZOFFSETFROM:+0100
TZOFFSETTO:+0200
TZNAME:CEST
DTSTART:20240331T010000
END:DAYLIGHT
BEGIN:STANDARD
TZOFFSETFROM:+0200
TZOFFSETTO:+0100
TZNAME:CET
DTSTART:20241027T010000
END:STANDARD
BEGIN:DAYLIGHT
TZOFFSETFROM:+0100
TZOFFSETTO:+0200
TZNAME:CEST
DTSTART:20250330T010000
END:DAYLIGHT
BEGIN:STANDARD
TZOFFSETFROM:+0200
TZOFFSETTO:+0100
TZNAME:CET
DTSTART:20251026T010000
END:STANDARD
BEGIN:DAYLIGHT
TZOFFSETFROM:+0100
TZOFFSETTO:+0200
TZNAME:CEST
DTSTART:20260329T010000
END:DAYLIGHT
BEGIN:STANDARD
TZOFFSETFROM:+0200
TZOFFSETTO:+0100
TZNAME:CET
DTSTART:20261025T010000
END:STANDARD
END:VTIMEZONE
BEGIN:VEVENT
DTSTART;TZID=Europe/Rome:20250513T180000
DTEND;TZID=Europe/Rome:20250513T193000
DTSTAMP:20260420T231044
CREATED:20250224T101527Z
LAST-MODIFIED:20250424T075500Z
UID:57448-1747159200-1747164600@sardegnaversounesco.org
SUMMARY:Paesaggi immutabili: i nuraghi in età romana e medievale
DESCRIPTION:Intervengono: \nEmanuela Abis Socia Associazione\nDario D’Orlando Archeologo UniCA\nMarco Muresu Archeologo\, Ricercatore UniCA
URL:https://sardegnaversounesco.org/evento/paesaggi-immutabili-i-nuraghi-in-eta-romana-e-medievale/
LOCATION:Sa Manifattura\, Viale Regina Margherita\, 33\, Cagliari\, CA\, 09125\, Italia
CATEGORIES:Gli appuntamenti dell'Associazione
ATTACH;FMTTYPE=image/png:https://sardegnaversounesco.org/wp-content/uploads/2025/02/WEB-APPUNTAMENTI_CA_Mod_13-MAGGIO.png
END:VEVENT
BEGIN:VEVENT
DTSTART;TZID=Europe/Rome:20250516T180000
DTEND;TZID=Europe/Rome:20250516T193000
DTSTAMP:20260420T231044
CREATED:20250224T101840Z
LAST-MODIFIED:20250319T163546Z
UID:57451-1747418400-1747423800@sardegnaversounesco.org
SUMMARY:Tempi che cambiano. Il nuraghe Palmavera tra archeologia\, restauri e valorizzazione
DESCRIPTION:Intervengono: \nPaolo Tola Socio Associazione\nLuca Doro Archeologo Uniss\nGabriella Gasperetti Archeologa SABAP SS NU\nAlessandra Carrieri Restauratrice SABAP SS NU\nPatrizia Luciana Tomassetti Architetto DRMN Sardegna
URL:https://sardegnaversounesco.org/evento/tempi-che-cambiano-il-nuraghe-palmavera-tra-archeologia-restauri-e-valorizzazione/
LOCATION:Sassari\, via Carlo Alberto\, 7\, Sassari\, Italy
CATEGORIES:Gli appuntamenti dell'Associazione
ATTACH;FMTTYPE=image/png:https://sardegnaversounesco.org/wp-content/uploads/2025/02/WEB-APPUNTAMENTI-SS_16-MAGGIO.png
END:VEVENT
BEGIN:VEVENT
DTSTART;TZID=Europe/Rome:20250517T104500
DTEND;TZID=Europe/Rome:20250517T130000
DTSTAMP:20260420T231044
CREATED:20250429T161040Z
LAST-MODIFIED:20250430T095011Z
UID:58109-1747478700-1747486800@sardegnaversounesco.org
SUMMARY:Complesso nuragico "Romanzesu" - Bitti
DESCRIPTION:Visita al Complesso nuragico “Romanzesu” di Bitti \nRitrovo: ore 10.45 – all’ingresso del sito \nVisita: dalle 11 alle 13 \nGuida: Maria Ausilia Fadda\, archeologa \nTrasporto: con mezzi propri \nNr. massimo partecipanti: 50 \nPartecipazione: riservata agli “Amici dell’associazione”\n(La partecipazione è riservata agli “Amici della Associazione”. Per chi non lo fosse già\, si comunica che è possibile iscriversi versando 10 euro sul cc IBAN IT 90D0306909606100000401099)
URL:https://sardegnaversounesco.org/evento/complesso-nuragico-romanzesu-bitti/
LOCATION:complesso nuragico romanzesu bitti\, Loc. Romanzesu\, Bitti\, NU\, 08021\, Italy
CATEGORIES:Itinerari Nuragici
ATTACH;FMTTYPE=image/jpeg:https://sardegnaversounesco.org/wp-content/uploads/2025/04/romanzesu-1.jpg
END:VEVENT
BEGIN:VEVENT
DTSTART;TZID=Europe/Rome:20250520T180000
DTEND;TZID=Europe/Rome:20250520T193000
DTSTAMP:20260420T231044
CREATED:20250224T102133Z
LAST-MODIFIED:20250416T100735Z
UID:57454-1747764000-1747769400@sardegnaversounesco.org
SUMMARY:Astronomia e patrimonio culturale: dalle piramidi egizie ai recenti siti Unesco
DESCRIPTION:Intervengono: \nEdoardo Balzarini Socio Associazione\nGiulio Magli Professore di astrofisica Politecnico di Milano
URL:https://sardegnaversounesco.org/evento/astronomia-e-patrimonio-culturale-dalle-piramidi-egizie-ai-recenti-siti-unesco/
LOCATION:Sa Manifattura\, Viale Regina Margherita\, 33\, Cagliari\, CA\, 09125\, Italia
CATEGORIES:Gli appuntamenti dell'Associazione
ATTACH;FMTTYPE=image/png:https://sardegnaversounesco.org/wp-content/uploads/2025/02/WEB-APPUNTAMENTI-CA_20-MAGGIO.png
END:VEVENT
BEGIN:VEVENT
DTSTART;TZID=Europe/Rome:20250524T104500
DTEND;TZID=Europe/Rome:20250524T130000
DTSTAMP:20260420T231044
CREATED:20250430T090623Z
LAST-MODIFIED:20250430T090623Z
UID:58113-1748083500-1748091600@sardegnaversounesco.org
SUMMARY:Nuraghe Santu Antine - Torralba
DESCRIPTION:Visita al Nuraghe Santu Antine – Torralba \nRitrovo: ore 10.45 all’ingresso del sito \nVisita: dalle 11 alle 13 \nGuida: dott. Franco Campus\, archeologo \nTrasporto: con mezzi propri \nPartecipazione: riservata agli “Amici dell’associazione”\,\n(per aderire versare 10 euro sul IBAN IT 90D0306909606100000401099\,)\nsino ad esaurimento dei posti disponibili.
URL:https://sardegnaversounesco.org/evento/nuraghe-santu-antine-torralba/
LOCATION:Nuraghe Santu Antine\, SP21\, Torralba\, SS\, 07048\, Italy
CATEGORIES:Itinerari Nuragici
ATTACH;FMTTYPE=image/jpeg:https://sardegnaversounesco.org/wp-content/uploads/2025/04/santu-antine.jpg
END:VEVENT
END:VCALENDAR