BEGIN:VCALENDAR
VERSION:2.0
PRODID:-//La Sardegna verso l&#039;Unesco - ECPv6.15.20//NONSGML v1.0//EN
CALSCALE:GREGORIAN
METHOD:PUBLISH
X-WR-CALNAME:La Sardegna verso l&#039;Unesco
X-ORIGINAL-URL:https://sardegnaversounesco.org
X-WR-CALDESC:Eventi per La Sardegna verso l&#039;Unesco
REFRESH-INTERVAL;VALUE=DURATION:PT1H
X-Robots-Tag:noindex
X-PUBLISHED-TTL:PT1H
BEGIN:VTIMEZONE
TZID:Europe/Rome
BEGIN:DAYLIGHT
TZOFFSETFROM:+0100
TZOFFSETTO:+0200
TZNAME:CEST
DTSTART:20240331T010000
END:DAYLIGHT
BEGIN:STANDARD
TZOFFSETFROM:+0200
TZOFFSETTO:+0100
TZNAME:CET
DTSTART:20241027T010000
END:STANDARD
BEGIN:DAYLIGHT
TZOFFSETFROM:+0100
TZOFFSETTO:+0200
TZNAME:CEST
DTSTART:20250330T010000
END:DAYLIGHT
BEGIN:STANDARD
TZOFFSETFROM:+0200
TZOFFSETTO:+0100
TZNAME:CET
DTSTART:20251026T010000
END:STANDARD
BEGIN:DAYLIGHT
TZOFFSETFROM:+0100
TZOFFSETTO:+0200
TZNAME:CEST
DTSTART:20260329T010000
END:DAYLIGHT
BEGIN:STANDARD
TZOFFSETFROM:+0200
TZOFFSETTO:+0100
TZNAME:CET
DTSTART:20261025T010000
END:STANDARD
END:VTIMEZONE
BEGIN:VEVENT
DTSTART;TZID=Europe/Rome:20250401T180000
DTEND;TZID=Europe/Rome:20250401T193000
DTSTAMP:20260421T004044
CREATED:20250224T100700Z
LAST-MODIFIED:20250305T115645Z
UID:57436-1743530400-1743535800@sardegnaversounesco.org
SUMMARY:Storia e storie di un eccezionale monumento: il nuraghe Santu Antine
DESCRIPTION:Intervengono: \nSandra Tobia Socia Associazione\nFranco Campus Archeologo
URL:https://sardegnaversounesco.org/evento/storia-e-storie-di-un-eccezionale-monumento-il-nuraghe-santu-antine/
LOCATION:Sa Manifattura\, Viale Regina Margherita\, 33\, Cagliari\, CA\, 09125\, Italia
CATEGORIES:Gli appuntamenti dell'Associazione
ATTACH;FMTTYPE=image/png:https://sardegnaversounesco.org/wp-content/uploads/2025/02/WEB-APPUNTAMENTI-CA_01-APRILE.png
END:VEVENT
BEGIN:VEVENT
DTSTART;TZID=Europe/Rome:20250402T180000
DTEND;TZID=Europe/Rome:20250402T193000
DTSTAMP:20260421T004044
CREATED:20250224T100924Z
LAST-MODIFIED:20250319T163439Z
UID:57439-1743616800-1743622200@sardegnaversounesco.org
SUMMARY:Rappresentare e comunicare il patrimonio culturale: la fruizione dei siti nuragici
DESCRIPTION:Intervengono: \nEdoardo Balzarini Socio Associazione\nEnrico Cicalò Professore di architettura UniSS
URL:https://sardegnaversounesco.org/evento/rappresentare-e-comunicare-il-patrimonio-culturale-la-fruizione-dei-siti-nuragici/
LOCATION:Sassari\, via Carlo Alberto\, 7\, Sassari\, Italy
CATEGORIES:Gli appuntamenti dell'Associazione
ATTACH;FMTTYPE=image/png:https://sardegnaversounesco.org/wp-content/uploads/2025/02/WEB-APPUNTAMENTI-SS_02-APRILE.png
END:VEVENT
BEGIN:VEVENT
DTSTART;TZID=Europe/Rome:20250415T180000
DTEND;TZID=Europe/Rome:20250415T193000
DTSTAMP:20260421T004044
CREATED:20250224T101135Z
LAST-MODIFIED:20250305T115910Z
UID:57442-1744740000-1744745400@sardegnaversounesco.org
SUMMARY:I cambiamenti climatici nel corso dei millenni. Le soluzioni vincenti in epoca nuragica
DESCRIPTION:Intervengono: \nPaolo Tola Socio Associazione\nMaria Ausilia Fadda già Direttrice SABAP SS NU
URL:https://sardegnaversounesco.org/evento/i-cambiamenti-climatici-nel-corso-dei-millenni-le-soluzioni-vincenti-in-epoca-nuragica/
LOCATION:Sa Manifattura\, Viale Regina Margherita\, 33\, Cagliari\, CA\, 09125\, Italia
CATEGORIES:Gli appuntamenti dell'Associazione
ATTACH;FMTTYPE=image/png:https://sardegnaversounesco.org/wp-content/uploads/2025/02/WEB-APPUNTAMENTI-CA_15-APRILE.png
END:VEVENT
BEGIN:VEVENT
DTSTART;TZID=Europe/Rome:20250416T180000
DTEND;TZID=Europe/Rome:20250416T193000
DTSTAMP:20260421T004044
CREATED:20250224T101314Z
LAST-MODIFIED:20250319T163521Z
UID:57445-1744826400-1744831800@sardegnaversounesco.org
SUMMARY:La Sardegna e i territori al di là del mare: le navi\, le rotte\, gli scambi
DESCRIPTION:Intervengono: \nAntonello Sanna Socio Associazione\nAnna Depalmas Professoressa di archeologia UnisS
URL:https://sardegnaversounesco.org/evento/la-sardegna-e-i-territori-al-di-la-del-mare-le-navi-le-rotte-gli-scambi/
LOCATION:Sassari\, via Carlo Alberto\, 7\, Sassari\, Italy
CATEGORIES:Gli appuntamenti dell'Associazione
ATTACH;FMTTYPE=image/png:https://sardegnaversounesco.org/wp-content/uploads/2025/02/WEB-APPUNTAMENTI-SS_16-APRILE.png
END:VEVENT
END:VCALENDAR