BEGIN:VCALENDAR
VERSION:2.0
PRODID:-//La Sardegna verso l&#039;Unesco - ECPv6.15.20//NONSGML v1.0//EN
CALSCALE:GREGORIAN
METHOD:PUBLISH
X-WR-CALNAME:La Sardegna verso l&#039;Unesco
X-ORIGINAL-URL:https://sardegnaversounesco.org
X-WR-CALDESC:Eventi per La Sardegna verso l&#039;Unesco
REFRESH-INTERVAL;VALUE=DURATION:PT1H
X-Robots-Tag:noindex
X-PUBLISHED-TTL:PT1H
BEGIN:VTIMEZONE
TZID:Europe/Rome
BEGIN:DAYLIGHT
TZOFFSETFROM:+0100
TZOFFSETTO:+0200
TZNAME:CEST
DTSTART:20240331T010000
END:DAYLIGHT
BEGIN:STANDARD
TZOFFSETFROM:+0200
TZOFFSETTO:+0100
TZNAME:CET
DTSTART:20241027T010000
END:STANDARD
BEGIN:DAYLIGHT
TZOFFSETFROM:+0100
TZOFFSETTO:+0200
TZNAME:CEST
DTSTART:20250330T010000
END:DAYLIGHT
BEGIN:STANDARD
TZOFFSETFROM:+0200
TZOFFSETTO:+0100
TZNAME:CET
DTSTART:20251026T010000
END:STANDARD
BEGIN:DAYLIGHT
TZOFFSETFROM:+0100
TZOFFSETTO:+0200
TZNAME:CEST
DTSTART:20260329T010000
END:DAYLIGHT
BEGIN:STANDARD
TZOFFSETFROM:+0200
TZOFFSETTO:+0100
TZNAME:CET
DTSTART:20261025T010000
END:STANDARD
END:VTIMEZONE
BEGIN:VEVENT
DTSTART;TZID=Europe/Rome:20250304T180000
DTEND;TZID=Europe/Rome:20250304T193000
DTSTAMP:20260421T021452
CREATED:20250224T093540Z
LAST-MODIFIED:20250305T115415Z
UID:57402-1741111200-1741116600@sardegnaversounesco.org
SUMMARY:Civiltà nuragica e Unesco: solo cultura o anche sviluppo economico?
DESCRIPTION:Intervengono Pierpaolo Vargiu Presidente Associazione la Sardegna Verso l’Unesco e Raffaele Paci Professore di economia UniCA.
URL:https://sardegnaversounesco.org/evento/civilta-nuragica-e-unesco-solo-cultura-o-anche-sviluppo-economico/
LOCATION:Sa Manifattura\, Viale Regina Margherita\, 33\, Cagliari\, CA\, 09125\, Italia
CATEGORIES:Gli appuntamenti dell'Associazione
ATTACH;FMTTYPE=image/png:https://sardegnaversounesco.org/wp-content/uploads/2025/02/WEB-APPUNTAMENTI-CA_04-MARZO.png
END:VEVENT
BEGIN:VEVENT
DTSTART;TZID=Europe/Rome:20250318T180000
DTEND;TZID=Europe/Rome:20250318T193000
DTSTAMP:20260421T021452
CREATED:20250224T095740Z
LAST-MODIFIED:20250305T120100Z
UID:57415-1742320800-1742326200@sardegnaversounesco.org
SUMMARY:Dai nuraghi alle città: come cambia la Sardegna alla fine dell'età del bronzo
DESCRIPTION:Intervengono: \nAntonello Sanna Socio Associazione\nPierluigi Montalbano Divulgatore scientifico
URL:https://sardegnaversounesco.org/evento/dai-nuraghi-alle-citta-come-cambia-la-sardegna-alla-fine-delleta-del-bronzo/
LOCATION:Sa Manifattura\, Viale Regina Margherita\, 33\, Cagliari\, CA\, 09125\, Italia
CATEGORIES:Gli appuntamenti dell'Associazione
ATTACH;FMTTYPE=image/png:https://sardegnaversounesco.org/wp-content/uploads/2025/02/WEB-APPUNTAMENTI-CA_18-MARZO.png
END:VEVENT
BEGIN:VEVENT
DTSTART;TZID=Europe/Rome:20250321T180000
DTEND;TZID=Europe/Rome:20250321T193000
DTSTAMP:20260421T021452
CREATED:20250224T100524Z
LAST-MODIFIED:20250319T163311Z
UID:57432-1742580000-1742585400@sardegnaversounesco.org
SUMMARY:La civiltà nuragica vista dagli Antichi: Dedalo e altre storie
DESCRIPTION:Saluti istituzionali \nInterventi\nAttilio Mastino già Magnifico Rettore UniSS\nRaimondo Zucca Professore di archeologia UniSS
URL:https://sardegnaversounesco.org/evento/la-civilta-nuragica-vista-dagli-antichi-dedalo-e-altre-storie/
LOCATION:Sassari\, via Carlo Alberto\, 7\, Sassari\, Italy
CATEGORIES:Gli appuntamenti dell'Associazione
ATTACH;FMTTYPE=image/png:https://sardegnaversounesco.org/wp-content/uploads/2025/02/WEB-APPUNTAMENTI-SS_21-MARZO.png
END:VEVENT
END:VCALENDAR