BEGIN:VCALENDAR
VERSION:2.0
PRODID:-//La Sardegna verso l&#039;Unesco - ECPv6.15.20//NONSGML v1.0//EN
CALSCALE:GREGORIAN
METHOD:PUBLISH
X-WR-CALNAME:La Sardegna verso l&#039;Unesco
X-ORIGINAL-URL:https://sardegnaversounesco.org
X-WR-CALDESC:Eventi per La Sardegna verso l&#039;Unesco
REFRESH-INTERVAL;VALUE=DURATION:PT1H
X-Robots-Tag:noindex
X-PUBLISHED-TTL:PT1H
BEGIN:VTIMEZONE
TZID:Europe/Rome
BEGIN:DAYLIGHT
TZOFFSETFROM:+0100
TZOFFSETTO:+0200
TZNAME:CEST
DTSTART:20250330T010000
END:DAYLIGHT
BEGIN:STANDARD
TZOFFSETFROM:+0200
TZOFFSETTO:+0100
TZNAME:CET
DTSTART:20251026T010000
END:STANDARD
BEGIN:DAYLIGHT
TZOFFSETFROM:+0100
TZOFFSETTO:+0200
TZNAME:CEST
DTSTART:20260329T010000
END:DAYLIGHT
BEGIN:STANDARD
TZOFFSETFROM:+0200
TZOFFSETTO:+0100
TZNAME:CET
DTSTART:20261025T010000
END:STANDARD
BEGIN:DAYLIGHT
TZOFFSETFROM:+0100
TZOFFSETTO:+0200
TZNAME:CEST
DTSTART:20270328T010000
END:DAYLIGHT
BEGIN:STANDARD
TZOFFSETFROM:+0200
TZOFFSETTO:+0100
TZNAME:CET
DTSTART:20271031T010000
END:STANDARD
END:VTIMEZONE
BEGIN:VEVENT
DTSTART;TZID=Europe/Rome:20260530T110000
DTEND;TZID=Europe/Rome:20260530T130000
DTSTAMP:20260421T023204
CREATED:20260402T160438Z
LAST-MODIFIED:20260402T160926Z
UID:79549-1780138800-1780146000@sardegnaversounesco.org
SUMMARY:Villagrande Strisaili - Visti da vicino
DESCRIPTION:Sabato 30 Maggio 2026 \nRitrovo: ore 11:00 > Ingresso del sito\nVisita: dalle 11:15 alle 13:00\nGuida: Maria Ausilia Fadda\, Archeologa \nIngresso gratuito per gli Amici dell’Associazione
URL:https://sardegnaversounesco.org/evento/villagrande-strisaili-visti-da-vicino/
LOCATION:Villagrande Strisaili\, Complesso cultuale S’Arcu ‘e is Forros\, Villagrande Strisaili\, Italy
CATEGORIES:visti da vicino 2026
ATTACH;FMTTYPE=image/png:https://sardegnaversounesco.org/wp-content/uploads/2026/04/villagrande-1.png
END:VEVENT
BEGIN:VEVENT
DTSTART;TZID=Europe/Rome:20260606T104500
DTEND;TZID=Europe/Rome:20260606T130000
DTSTAMP:20260421T023204
CREATED:20260402T161837Z
LAST-MODIFIED:20260403T092932Z
UID:79561-1780742700-1780750800@sardegnaversounesco.org
SUMMARY:Villanovafranca - Visti da vicino
DESCRIPTION:Sabato 6 Giugno 2026 \nRitrovo: ore 10:45 > Ingresso del sito\nVisita: dalle 11:00 alle 13:00\nGuida: Mauro Perra\, Archeologo \nIngresso gratuito per gli Amici dell’Associazione
URL:https://sardegnaversounesco.org/evento/villanovafranca-visti-da-vicino/
LOCATION:Villanovafranca\, Nuraghe Su Mulinu e Museo\, Villanovafranca\, Italy
CATEGORIES:visti da vicino 2026
ATTACH;FMTTYPE=image/png:https://sardegnaversounesco.org/wp-content/uploads/2026/04/villanovafranca.png
END:VEVENT
BEGIN:VEVENT
DTSTART;TZID=Europe/Rome:20260608T173000
DTEND;TZID=Europe/Rome:20260608T200000
DTSTAMP:20260421T023204
CREATED:20260305T115828Z
LAST-MODIFIED:20260306T121030Z
UID:78476-1780939800-1780948800@sardegnaversounesco.org
SUMMARY:La metallurgia del bronzo nella Sardegna nuragica: aspetti principali\, analisi archeometriche e Archeologia sperimentale
DESCRIPTION:Edoardo Balzarini\, Socio APS La Sardegna verso l’Unesco\nAnna Depalmas\, Professoressa di Preistoria e Protostoria\, UniSS\nAntonio Brunetti\, Professore di Fisica applicata UniSS\nClaudio Bulla\, Esperto di archeometallurgia RIPAM (Laboratorio Ricerche Integrate di Protostoria e Archeometallurgia del Mediterraneo) UniSS\nMatteo Pischedda\, Esperto di archeometallurgia RIPAM (Laboratorio Ricerche Integrate di Protostoria e Archeometallurgia del Mediterraneo) UniSS
URL:https://sardegnaversounesco.org/evento/la-metallurgia-del-bronzo-nella-sardegna-nuragica-aspetti-principali-analisi-archeometriche-e-archeologia-sperimentale/
LOCATION:Alghero\, Sala Conferenze Fondazione\, Alghero\, Italy
CATEGORIES:Gli appuntamenti dell'Associazione
ATTACH;FMTTYPE=image/jpeg:https://sardegnaversounesco.org/wp-content/uploads/2026/03/EGG_Alghero_8-giugno_260301.jpg
END:VEVENT
BEGIN:VEVENT
DTSTART;TZID=Europe/Rome:20260609T180000
DTEND;TZID=Europe/Rome:20260609T200000
DTSTAMP:20260421T023204
CREATED:20260305T120353Z
LAST-MODIFIED:20260306T120127Z
UID:78482-1781028000-1781035200@sardegnaversounesco.org
SUMMARY:Stili di vita e società nuragica: il contributo dell’antropologia scheletrica
DESCRIPTION:Valeria Nurchi\, Socia APS La Sardegna verso l’Unesco\nVitale Sparacello\, Professore di Antropologia fisica UniCa\nRoberta Anedda\, Dottoranda Laboratoire Méditerranéen de Préhistoire Europe Afrique\, Aix-Marseille\nAlessandra Varalli\, Ricercatrice Laboratoire Méditerranéen de Préhistoire Europe Afrique\, Aix-Marseille\nCarla Maserati\, Dottoranda UniCA
URL:https://sardegnaversounesco.org/evento/stili-di-vita-e-societa-nuragica-il-contributo-dellantropologia-scheletrica/
LOCATION:Sa Manifattura\, Viale Regina Margherita\, 33\, Cagliari\, CA\, 09125\, Italia
CATEGORIES:Gli appuntamenti dell'Associazione
ATTACH;FMTTYPE=image/jpeg:https://sardegnaversounesco.org/wp-content/uploads/2026/03/EGG_Cagliari_9giugno_260301.jpg
END:VEVENT
BEGIN:VEVENT
DTSTART;TZID=Europe/Rome:20260615T183000
DTEND;TZID=Europe/Rome:20260615T200000
DTSTAMP:20260421T023204
CREATED:20260305T120735Z
LAST-MODIFIED:20260306T120103Z
UID:78486-1781548200-1781553600@sardegnaversounesco.org
SUMMARY:Cosa dice il nostro DNA: la storia del popolamento genetico della Sardegna
DESCRIPTION:Pierpaolo Vargiu\, Presidente APS La Sardegna verso l’Unesco\nPaolo Francalacci\, Professore di Genetica UniCa
URL:https://sardegnaversounesco.org/evento/cosa-dice-il-nostro-dna-la-storia-del-popolamento-genetico-della-sardegna/
LOCATION:Tortolì\, Teatro San Francesco\, Tortolì\, Italy
CATEGORIES:Gli appuntamenti dell'Associazione
ATTACH;FMTTYPE=image/jpeg:https://sardegnaversounesco.org/wp-content/uploads/2026/03/EGG_Tortoli_15giugno_260301.jpg
END:VEVENT
END:VCALENDAR