BEGIN:VCALENDAR
VERSION:2.0
PRODID:-//La Sardegna verso l&#039;Unesco - ECPv6.15.20//NONSGML v1.0//EN
CALSCALE:GREGORIAN
METHOD:PUBLISH
X-ORIGINAL-URL:https://sardegnaversounesco.org
X-WR-CALDESC:Eventi per La Sardegna verso l&#039;Unesco
REFRESH-INTERVAL;VALUE=DURATION:PT1H
X-Robots-Tag:noindex
X-PUBLISHED-TTL:PT1H
BEGIN:VTIMEZONE
TZID:Europe/Rome
BEGIN:DAYLIGHT
TZOFFSETFROM:+0100
TZOFFSETTO:+0200
TZNAME:CEST
DTSTART:20240331T010000
END:DAYLIGHT
BEGIN:STANDARD
TZOFFSETFROM:+0200
TZOFFSETTO:+0100
TZNAME:CET
DTSTART:20241027T010000
END:STANDARD
BEGIN:DAYLIGHT
TZOFFSETFROM:+0100
TZOFFSETTO:+0200
TZNAME:CEST
DTSTART:20250330T010000
END:DAYLIGHT
BEGIN:STANDARD
TZOFFSETFROM:+0200
TZOFFSETTO:+0100
TZNAME:CET
DTSTART:20251026T010000
END:STANDARD
BEGIN:DAYLIGHT
TZOFFSETFROM:+0100
TZOFFSETTO:+0200
TZNAME:CEST
DTSTART:20260329T010000
END:DAYLIGHT
BEGIN:STANDARD
TZOFFSETFROM:+0200
TZOFFSETTO:+0100
TZNAME:CET
DTSTART:20261025T010000
END:STANDARD
BEGIN:DAYLIGHT
TZOFFSETFROM:+0100
TZOFFSETTO:+0200
TZNAME:CEST
DTSTART:20270328T010000
END:DAYLIGHT
BEGIN:STANDARD
TZOFFSETFROM:+0200
TZOFFSETTO:+0100
TZNAME:CET
DTSTART:20271031T010000
END:STANDARD
END:VTIMEZONE
BEGIN:VEVENT
DTSTART;TZID=Europe/Rome:20251030T173000
DTEND;TZID=Europe/Rome:20251030T190000
DTSTAMP:20260421T011139
CREATED:20250909T161105Z
LAST-MODIFIED:20250909T161105Z
UID:69034-1761845400-1761850800@sardegnaversounesco.org
SUMMARY:L'esperimento sardo-fenicio nel Sulcis. Il nuraghe Sirai
DESCRIPTION:Ennio Filigheddu Socio Associazione\nCarla Perra Archeologa\, Comune di Carbonia
URL:https://sardegnaversounesco.org/evento/lesperimento-sardo-fenicio-nel-sulcis-il-nuraghe-sirai/
LOCATION:Carbonia\, Nuraghe Sirai\, Carbonia\, Italy
CATEGORIES:Gli appuntamenti dell'Associazione
ATTACH;FMTTYPE=image/jpeg:https://sardegnaversounesco.org/wp-content/uploads/2025/09/10-LSvU_APP_Carbonia_sito_30.10.2025.jpg
END:VEVENT
BEGIN:VEVENT
DTSTART;TZID=Europe/Rome:20251105T173000
DTEND;TZID=Europe/Rome:20251105T190000
DTSTAMP:20260421T011139
CREATED:20250909T161104Z
LAST-MODIFIED:20250909T161104Z
UID:69039-1762363800-1762369200@sardegnaversounesco.org
SUMMARY:Tecniche\, innovazioni e trasmissione di saperi: i metallurghi nuragici
DESCRIPTION:Gianfranco Cocco Socio Associazione\nFranco Campus Archeologo
URL:https://sardegnaversounesco.org/evento/tecniche-innovazioni-e-trasmissione-di-saperi-i-metallurghi-nuragici/
LOCATION:olbia\, Via Porto Romano\, 8\, Olbia\, Italy
CATEGORIES:Gli appuntamenti dell'Associazione
ATTACH;FMTTYPE=image/jpeg:https://sardegnaversounesco.org/wp-content/uploads/2025/09/11-LSvU_APP_Olbia_sito_05.11.2025.jpg
END:VEVENT
BEGIN:VEVENT
DTSTART;TZID=Europe/Rome:20251110T173000
DTEND;TZID=Europe/Rome:20251110T190000
DTSTAMP:20260421T011139
CREATED:20250909T161104Z
LAST-MODIFIED:20250909T161104Z
UID:69046-1762795800-1762801200@sardegnaversounesco.org
SUMMARY:Sulle spalle dei giganti. Perché la civiltà nuragica ci aiuta a guardare lontano?
DESCRIPTION:Antonello Sanna Socio Associazione\nAnna Depalmas Professoressa di preistoria e protostoria UniSS\nAntonella Camarda Professoressa di museologia e critica d’arte UnisS\nLuca Cheri Direttore Museo civico G. Marongiu di Cabras\nGiuliana Altea Professoressa di storia dell’arte contemporanea UniSS
URL:https://sardegnaversounesco.org/evento/sulle-spalle-dei-giganti-perche-la-civilta-nuragica-ci-aiuta-a-guardare-lontano/
LOCATION:Sassari\, via Carlo Alberto\, 7\, Sassari\, Italy
CATEGORIES:Gli appuntamenti dell'Associazione
ATTACH;FMTTYPE=image/jpeg:https://sardegnaversounesco.org/wp-content/uploads/2025/09/12-LSvU_APP_SS_sito_10.11.2025.jpg
END:VEVENT
BEGIN:VEVENT
DTSTART;TZID=Europe/Rome:20251111T180000
DTEND;TZID=Europe/Rome:20251111T193000
DTSTAMP:20260421T011139
CREATED:20250909T161103Z
LAST-MODIFIED:20250909T161103Z
UID:69048-1762884000-1762889400@sardegnaversounesco.org
SUMMARY:Ma quanti sono? L'Atlante dei monumenti della civiltà nuragica
DESCRIPTION:Emanuela Abis Socia Associazione\nMarco Cabras e Ilaria Pitzalis Archeologi UniCA\nLuca Doro e Matteo Pischedda Archeologi UniSS\nEnrica Vecchi Ricercatrice in geomatica UniCA Marco Cigagna Ingegnere in geomatica UniCA
URL:https://sardegnaversounesco.org/evento/ma-quanti-sono-latlante-dei-monumenti-della-civilta-nuragica/
LOCATION:Sa Manifattura\, Viale Regina Margherita\, 33\, Cagliari\, CA\, 09125\, Italia
CATEGORIES:Gli appuntamenti dell'Associazione
ATTACH;FMTTYPE=image/jpeg:https://sardegnaversounesco.org/wp-content/uploads/2025/09/13-LSvU_APP_CA_sito_11.11.2025.jpg
END:VEVENT
BEGIN:VEVENT
DTSTART;TZID=Europe/Rome:20251113T180000
DTEND;TZID=Europe/Rome:20251113T193000
DTSTAMP:20260421T011139
CREATED:20250909T161059Z
LAST-MODIFIED:20251007T151547Z
UID:69055-1763056800-1763062200@sardegnaversounesco.org
SUMMARY:Paesaggi immutabili: i nuraghi in età romana e medievale
DESCRIPTION:Emanuela Abis Socia Associazione\nDario D’Orlando Archeologo UniCA\nMarco Muresu Archeologo\, Ricercatore UniCA
URL:https://sardegnaversounesco.org/evento/paesaggi-immutabili-i-nuraghi-in-eta-romana-e-medievale-2/
LOCATION:Carbonia\, Nuraghe Sirai\, Carbonia\, Italy
CATEGORIES:Gli appuntamenti dell'Associazione
ATTACH;FMTTYPE=image/jpeg:https://sardegnaversounesco.org/wp-content/uploads/2025/09/14-LSvU_APP_Carbonia_sito_13.11.2025.jpg
END:VEVENT
BEGIN:VEVENT
DTSTART;TZID=Europe/Rome:20251119T173000
DTEND;TZID=Europe/Rome:20251119T190000
DTSTAMP:20260421T011139
CREATED:20250909T161105Z
LAST-MODIFIED:20251008T101742Z
UID:69023-1763573400-1763578800@sardegnaversounesco.org
SUMMARY:Ma quanti sono? L'Atlante dei monumenti della civiltà nuragica
DESCRIPTION:Perché La Sardegna verso l’Unesco?\nPierpaolo Vargiu Presidente Associazione \nMa quanti sono? L’Atlante dei monumenti della civiltà nuragica\nEmanuela Abis Socia Associazione\nMarco Cabras e Ilaria Pitzalis Archeologi UniCA Luca Doro e Matteo Pischedda Archeologi UniSS\nEnrica Vecchi Ricercatrice in geomatica UniCA Marco Cigagna Ingegnere in geomatica UniCA
URL:https://sardegnaversounesco.org/evento/ma-quanti-sono-latlante-dei-monumenti-della-civilta-nuragica-3/
LOCATION:olbia\, Via Porto Romano\, 8\, Olbia\, Italy
CATEGORIES:Gli appuntamenti dell'Associazione
ATTACH;FMTTYPE=image/png:https://sardegnaversounesco.org/wp-content/uploads/2025/09/APPUNTAMENTI-OLBIAloghi-19.png
END:VEVENT
BEGIN:VEVENT
DTSTART;TZID=Europe/Rome:20251124T173000
DTEND;TZID=Europe/Rome:20251124T190000
DTSTAMP:20260421T011139
CREATED:20250909T161058Z
LAST-MODIFIED:20250909T161058Z
UID:69065-1764005400-1764010800@sardegnaversounesco.org
SUMMARY:L'economia agricola e di sussistenza delle comunità nuragiche della Sardegna
DESCRIPTION:L’economia agricola e di sussistenza delle comunità nuragiche della Sardegna\nPaolo Tola Socio Associazione\nMariano Ucchesu Archeobotanico Università di Montpellier\nMarco Sarigu Dottore di ricerca in botanica ambientale e applicata UniCA \nI vinaccioli raccontano 3500 anni di storia della vite in Sardegna e non solo\nGianluigi Bacchetta Professore di botanica sistematica UniCA
URL:https://sardegnaversounesco.org/evento/leconomia-agricola-e-di-sussistenza-delle-comunita-nuragiche-della-sardegna/
LOCATION:Sassari\, via Carlo Alberto\, 7\, Sassari\, Italy
CATEGORIES:Gli appuntamenti dell'Associazione
ATTACH;FMTTYPE=image/jpeg:https://sardegnaversounesco.org/wp-content/uploads/2025/09/16-LSvU_APP_SS_sito_24.11.2025.jpg
END:VEVENT
BEGIN:VEVENT
DTSTART;TZID=Europe/Rome:20251125T180000
DTEND;TZID=Europe/Rome:20251125T193000
DTSTAMP:20260421T011139
CREATED:20250909T161058Z
LAST-MODIFIED:20250909T161058Z
UID:69069-1764093600-1764099000@sardegnaversounesco.org
SUMMARY:Un percorso durato mille anni: il nuraghe Cuccurada di Mogoro
DESCRIPTION:Valeria Nurchi Socia Associazione\nRiccardo Cicilloni Archeologo\, Professore di preistoria e protostoria UniCA
URL:https://sardegnaversounesco.org/evento/un-percorso-durato-mille-anni-il-nuraghe-cuccurada-di-mogoro/
LOCATION:Sa Manifattura\, Viale Regina Margherita\, 33\, Cagliari\, CA\, 09125\, Italia
CATEGORIES:Gli appuntamenti dell'Associazione
ATTACH;FMTTYPE=image/jpeg:https://sardegnaversounesco.org/wp-content/uploads/2025/09/17-LSvU_APP_CA_sito_25.11.2025.jpg
END:VEVENT
BEGIN:VEVENT
DTSTART;TZID=Europe/Rome:20251209T180000
DTEND;TZID=Europe/Rome:20251209T193000
DTSTAMP:20260421T011139
CREATED:20250909T161050Z
LAST-MODIFIED:20250909T161050Z
UID:69075-1765303200-1765308600@sardegnaversounesco.org
SUMMARY:Cosa ci dice il DNA sull'origine dei sardi
DESCRIPTION:Maurizio Melis Socio Associazione\nFrancesco Cucca Professore di genetica UniSS
URL:https://sardegnaversounesco.org/evento/cosa-ci-dice-il-dna-sullorigine-dei-sardi/
LOCATION:Sa Manifattura\, Viale Regina Margherita\, 33\, Cagliari\, CA\, 09125\, Italia
CATEGORIES:Gli appuntamenti dell'Associazione
ATTACH;FMTTYPE=image/jpeg:https://sardegnaversounesco.org/wp-content/uploads/2025/09/18-LSvU_APP_CA_sito_09.12.2025.jpg
END:VEVENT
BEGIN:VEVENT
DTSTART;TZID=Europe/Rome:20260310T173000
DTEND;TZID=Europe/Rome:20260310T200000
DTSTAMP:20260421T011139
CREATED:20260305T090637Z
LAST-MODIFIED:20260306T120014Z
UID:78349-1773163800-1773172800@sardegnaversounesco.org
SUMMARY:Sulle tracce del nostro antico DNA. In viaggio attraverso il Mediterraneo
DESCRIPTION:Valeria Nurchi\, Socia APS La Sardegna verso l’Unesco\nPaolo Francalacci\, Professore di Genetica UniCa
URL:https://sardegnaversounesco.org/evento/sulle-tracce-del-nostro-antico-dna-in-viaggio-attraverso-il-mediterraneo/
LOCATION:Carbonia\, Nuraghe Sirai\, Carbonia\, Italy
CATEGORIES:Gli appuntamenti dell'Associazione
ATTACH;FMTTYPE=image/jpeg:https://sardegnaversounesco.org/wp-content/uploads/2026/03/1-EGG_Carbonia_10-marzo_260301.jpg
END:VEVENT
BEGIN:VEVENT
DTSTART;TZID=Europe/Rome:20260312T163000
DTEND;TZID=Europe/Rome:20260312T200000
DTSTAMP:20260421T011139
CREATED:20260305T092316Z
LAST-MODIFIED:20260306T120237Z
UID:78357-1773333000-1773345600@sardegnaversounesco.org
SUMMARY:Ma i sardi navigavano? La Sardegna nuragica e il Mediterraneo
DESCRIPTION:Roberto Timo\, Socio APS La Sardegna verso l’Unesco\nGiovanna Fundoni\, Ricercatrice Preistoria e Protostoria UniSS
URL:https://sardegnaversounesco.org/evento/ma-i-sardi-navigavano-la-sardegna-nuragica-e-il-mediterraneo/
LOCATION:Tempio Pausania\, Convento degli Scolopi\, Tempio Pausania\, Italy
CATEGORIES:Gli appuntamenti dell'Associazione
ATTACH;FMTTYPE=image/jpeg:https://sardegnaversounesco.org/wp-content/uploads/2026/03/2-EGG_Tempio_12-marzo_260301.jpg
END:VEVENT
BEGIN:VEVENT
DTSTART;TZID=Europe/Rome:20260317T180000
DTEND;TZID=Europe/Rome:20260317T200000
DTSTAMP:20260421T011139
CREATED:20260305T092724Z
LAST-MODIFIED:20260306T120255Z
UID:78361-1773770400-1773777600@sardegnaversounesco.org
SUMMARY:Quanti sono i nuraghi? Proviamo a contarli insieme
DESCRIPTION:Pierpaolo Vargiu\, Presidente APS La Sardegna verso l’Unesco\nFabio Pinna\, Professore di Archeologia Pubblica UniCa
URL:https://sardegnaversounesco.org/evento/quanti-sono-i-nuraghi-proviamo-a-contarli-insieme/
LOCATION:Sa Manifattura\, Viale Regina Margherita\, 33\, Cagliari\, CA\, 09125\, Italia
CATEGORIES:Gli appuntamenti dell'Associazione
ATTACH;FMTTYPE=image/jpeg:https://sardegnaversounesco.org/wp-content/uploads/2026/03/3-EGG_Cagliari_17marzo_260301.jpg
END:VEVENT
BEGIN:VEVENT
DTSTART;TZID=Europe/Rome:20260319T173000
DTEND;TZID=Europe/Rome:20260319T200000
DTSTAMP:20260421T011139
CREATED:20260305T093148Z
LAST-MODIFIED:20260306T120314Z
UID:78365-1773941400-1773950400@sardegnaversounesco.org
SUMMARY:I nuraghi tra identità\, cultura e sviluppo
DESCRIPTION:Pierpaolo Vargiu\, Presidente APS La Sardegna verso l’Unesco\nRaffaele Paci\, Professore di Economia UniCa
URL:https://sardegnaversounesco.org/evento/i-nuraghi-tra-identita-cultura-e-sviluppo/
LOCATION:Oristano\, Sala Conferenze Hospitalis Sancti Antoni\, Oristano\, Italy
CATEGORIES:Gli appuntamenti dell'Associazione
ATTACH;FMTTYPE=image/jpeg:https://sardegnaversounesco.org/wp-content/uploads/2026/03/4-EGG_Oristano_19-marzo_260301.jpg
END:VEVENT
BEGIN:VEVENT
DTSTART;TZID=Europe/Rome:20260324T163000
DTEND;TZID=Europe/Rome:20260324T200000
DTSTAMP:20260421T011139
CREATED:20260305T094525Z
LAST-MODIFIED:20260306T120339Z
UID:78374-1774369800-1774382400@sardegnaversounesco.org
SUMMARY:Presi per mano dai giganti di Mont’e Prama. Dove andiamo?
DESCRIPTION:Giampaolo Pitzurra\, Socio APS La Sardegna verso l’Unesco\nBibi Pinna\, Fotografo\nAlessandra Cossu\, Fotografa
URL:https://sardegnaversounesco.org/evento/presi-per-mano-dai-giganti-di-monte-prama-dove-andiamo/
LOCATION:Tempio Pausania\, Convento degli Scolopi\, Tempio Pausania\, Italy
CATEGORIES:Gli appuntamenti dell'Associazione
ATTACH;FMTTYPE=image/jpeg:https://sardegnaversounesco.org/wp-content/uploads/2026/03/6-EGG_Tempio_24-marzo_260301.jpg
END:VEVENT
BEGIN:VEVENT
DTSTART;TZID=Europe/Rome:20260324T173000
DTEND;TZID=Europe/Rome:20260324T200000
DTSTAMP:20260421T011139
CREATED:20260305T093450Z
LAST-MODIFIED:20260306T120352Z
UID:78370-1774373400-1774382400@sardegnaversounesco.org
SUMMARY:Nuraghi. Lo scatto fotografico che riesce a far parlare la bellezza
DESCRIPTION:Giampaolo Pitzurra\, Socio APS La Sardegna verso l’Unesco\nBibi Pinna\, Fotografo\nAlessandra Cossu\, Fotografa
URL:https://sardegnaversounesco.org/evento/nuraghi-lo-scatto-fotografico-che-riesce-a-far-parlare-la-bellezza/
LOCATION:Carbonia\, Nuraghe Sirai\, Carbonia\, Italy
CATEGORIES:Gli appuntamenti dell'Associazione
ATTACH;FMTTYPE=image/jpeg:https://sardegnaversounesco.org/wp-content/uploads/2026/03/5-EGG_Carbonia_24-marzo_260301.jpg
END:VEVENT
BEGIN:VEVENT
DTSTART;TZID=Europe/Rome:20260330T180000
DTEND;TZID=Europe/Rome:20260330T200000
DTSTAMP:20260421T011139
CREATED:20260305T094840Z
LAST-MODIFIED:20260306T120407Z
UID:78379-1774893600-1774900800@sardegnaversounesco.org
SUMMARY:Cosa dice il nostro DNA
DESCRIPTION:Roberto Timo\, Socio APS La Sardegna verso l’Unesco\nFrancesco Cucca\, Professore di Genetica UniSS
URL:https://sardegnaversounesco.org/evento/cosa-dice-il-nostro-dna/
LOCATION:Sassari\, via Carlo Alberto\, 7\, Sassari\, Italy
CATEGORIES:Gli appuntamenti dell'Associazione
ATTACH;FMTTYPE=image/jpeg:https://sardegnaversounesco.org/wp-content/uploads/2026/03/7-EGG_Sassari_30-marzo_260301.jpg
END:VEVENT
BEGIN:VEVENT
DTSTART;TZID=Europe/Rome:20260331T180000
DTEND;TZID=Europe/Rome:20260331T200000
DTSTAMP:20260421T011139
CREATED:20260305T095307Z
LAST-MODIFIED:20260306T120423Z
UID:78383-1774980000-1774987200@sardegnaversounesco.org
SUMMARY:Ricerche archeologiche nell’alta Marmilla
DESCRIPTION:Sandra Tobia\, Socia APS La Sardegna verso l’Unesco\nEmerenziana Usai\, Archeologa
URL:https://sardegnaversounesco.org/evento/ricerche-archeologiche-nellalta-marmilla/
LOCATION:Sa Manifattura\, Viale Regina Margherita\, 33\, Cagliari\, CA\, 09125\, Italia
CATEGORIES:Gli appuntamenti dell'Associazione
ATTACH;FMTTYPE=image/jpeg:https://sardegnaversounesco.org/wp-content/uploads/2026/03/8-EGG_Cagliari_31marzo_260301.jpg
END:VEVENT
BEGIN:VEVENT
DTSTART;TZID=Europe/Rome:20260402T173000
DTEND;TZID=Europe/Rome:20260402T200000
DTSTAMP:20260421T011139
CREATED:20260305T100944Z
LAST-MODIFIED:20260306T120455Z
UID:78387-1775151000-1775160000@sardegnaversounesco.org
SUMMARY:La civiltà nuragica vista dagli Antichi: Dedalo e altre storie
DESCRIPTION:Gianfranco Cocco\, Socio APS La Sardegna verso l’Unesco\nAttilio Mastino\, Già Professore di Storia Romana e Rettore UniSS\, Presidente della Scuola Archeologica Italiana di Cartagine\nRaimondo Zucca\, Già Professore di Archeologia UniSS\, Presidente del Consiglio Scientifico della Fondazione Mont’e Prama
URL:https://sardegnaversounesco.org/evento/la-civilta-nuragica-vista-dagli-antichi-dedalo-e-altre-storie-2/
LOCATION:Oristano\, Sala Conferenze Hospitalis Sancti Antoni\, Oristano\, Italy
CATEGORIES:Gli appuntamenti dell'Associazione
ATTACH;FMTTYPE=image/jpeg:https://sardegnaversounesco.org/wp-content/uploads/2026/03/9-EGG_Oristano_2-aprile_260301.jpg
END:VEVENT
BEGIN:VEVENT
DTSTART;TZID=Europe/Rome:20260410T173000
DTEND;TZID=Europe/Rome:20260410T200000
DTSTAMP:20260421T011139
CREATED:20260305T101313Z
LAST-MODIFIED:20260311T151826Z
UID:78391-1775842200-1775851200@sardegnaversounesco.org
SUMMARY:I nuraghi tra identità\, cultura e sviluppo
DESCRIPTION:Pierpaolo Vargiu\, Presidente APS La Sardegna verso l’Unesco\nRaffaele Paci\, Professore di Economia UniCa
URL:https://sardegnaversounesco.org/evento/i-nuraghi-tra-identita-cultura-e-sviluppo-2/
LOCATION:San Gavino Monreale\, Galleria Civis\, San Gavino Monreale\, Italy
CATEGORIES:Gli appuntamenti dell'Associazione
ATTACH;FMTTYPE=image/jpeg:https://sardegnaversounesco.org/wp-content/uploads/2026/03/EGG_San_Gavino_10aprile_260305.jpg
END:VEVENT
BEGIN:VEVENT
DTSTART;TZID=Europe/Rome:20260413T173000
DTEND;TZID=Europe/Rome:20260413T200000
DTSTAMP:20260421T011139
CREATED:20260305T101537Z
LAST-MODIFIED:20260420T144727Z
UID:78396-1776101400-1776110400@sardegnaversounesco.org
SUMMARY:Paesaggio nuragico: la natura incontra l’uomo
DESCRIPTION:Giampaolo Pitzurra\, Socio APS La Sardegna verso l’Unesco\nMarco Malavasi\, Professore di Botanica UniSS
URL:https://sardegnaversounesco.org/evento/paesaggio-nuragico-la-natura-incontra-luomo/
LOCATION:Sassari 2\, Aula magna Barbieri\, Dipartimento Agraria Univ. Sassari\,\, Sassari\, Italy
CATEGORIES:Gli appuntamenti dell'Associazione
ATTACH;FMTTYPE=image/png:https://sardegnaversounesco.org/wp-content/uploads/2026/03/Screenshot-2026-04-20-alle-16.41.26-scaled.png
END:VEVENT
BEGIN:VEVENT
DTSTART;TZID=Europe/Rome:20260414T173000
DTEND;TZID=Europe/Rome:20260414T200000
DTSTAMP:20260421T011139
CREATED:20260305T101800Z
LAST-MODIFIED:20260306T120540Z
UID:78400-1776187800-1776196800@sardegnaversounesco.org
SUMMARY:L’uomo cerca il divino. Succedeva anche al tempo dei nuragici
DESCRIPTION:Maurizio Melis\, Socio APS La Sardegna verso l’Unesco\nNicola Dessì\, Divulgatore Scientifico
URL:https://sardegnaversounesco.org/evento/luomo-cerca-il-divino-succedeva-anche-al-tempo-dei-nuragici/
LOCATION:Carbonia\, Nuraghe Sirai\, Carbonia\, Italy
CATEGORIES:Gli appuntamenti dell'Associazione
ATTACH;FMTTYPE=image/jpeg:https://sardegnaversounesco.org/wp-content/uploads/2026/03/12-EGG_Carbonia_14-aprile_260301.jpg
END:VEVENT
BEGIN:VEVENT
DTSTART;TZID=Europe/Rome:20260416T173000
DTEND;TZID=Europe/Rome:20260416T200000
DTSTAMP:20260421T011139
CREATED:20260305T102132Z
LAST-MODIFIED:20260306T120605Z
UID:78404-1776360600-1776369600@sardegnaversounesco.org
SUMMARY:Un incontro tra popoli: Nuragici e Fenici nell’Oristanese
DESCRIPTION:Antonello Sanna\, APS La Sardegna verso l’Unesco\nCarla Del Vais\, Professoressa di Archeologia Fenicio-Punica UniCa
URL:https://sardegnaversounesco.org/evento/un-incontro-tra-popoli-nuragici-e-fenici-nelloristanese/
LOCATION:Oristano\, Sala Conferenze Hospitalis Sancti Antoni\, Oristano\, Italy
CATEGORIES:Gli appuntamenti dell'Associazione
ATTACH;FMTTYPE=image/jpeg:https://sardegnaversounesco.org/wp-content/uploads/2026/03/13-EGG_Oristano_16-aprile_260301.jpg
END:VEVENT
BEGIN:VEVENT
DTSTART;TZID=Europe/Rome:20260416T173000
DTEND;TZID=Europe/Rome:20260416T200000
DTSTAMP:20260421T011139
CREATED:20260305T102344Z
LAST-MODIFIED:20260306T120623Z
UID:78410-1776360600-1776369600@sardegnaversounesco.org
SUMMARY:Come prendersi cura del paesaggio nuragico
DESCRIPTION:Pierpaolo Vargiu\, Presidente APS La Sardegna verso l’Unesco\nGianfranca Salis\, Responsabile Archeologa Soprintendenza SABAP di Cagliari e Province di Oristano e Sud Sardegna\nDonatella Fiorino\, Professoressa di Restauro UniCA
URL:https://sardegnaversounesco.org/evento/come-prendersi-cura-del-paesaggio-nuragico/
LOCATION:Quartu S.Elena\, via San Benedetto 122\, Quartu S.Elena\, Italy
CATEGORIES:Gli appuntamenti dell'Associazione
ATTACH;FMTTYPE=image/jpeg:https://sardegnaversounesco.org/wp-content/uploads/2026/03/14-EGG_QUARTU_16-aprile_260301.jpg
END:VEVENT
BEGIN:VEVENT
DTSTART;TZID=Europe/Rome:20260418T110000
DTEND;TZID=Europe/Rome:20260418T130000
DTSTAMP:20260421T011139
CREATED:20260402T161406Z
LAST-MODIFIED:20260402T161406Z
UID:79556-1776510000-1776517200@sardegnaversounesco.org
SUMMARY:Arzachena - Visti da vicino
DESCRIPTION:Sabato 18 aprile 2026 \nRitrovo: ore 11:00 > Ingresso del sito\nVisita: dalle 11:15 alle 13:00\nGuida: Angela Antona\, Archeologa \nIngresso gratuito per gli Amici dell’Associazione
URL:https://sardegnaversounesco.org/evento/arzachena-visti-da-vicino/
LOCATION:Arzachena\, Complesso Nuragico La Prisgiona\, Arzachena\, Italy
CATEGORIES:visti da vicino 2026
ATTACH;FMTTYPE=image/png:https://sardegnaversounesco.org/wp-content/uploads/2026/04/arzachena.png
END:VEVENT
BEGIN:VEVENT
DTSTART;TZID=Europe/Rome:20260421T180000
DTEND;TZID=Europe/Rome:20260421T200000
DTSTAMP:20260421T011139
CREATED:20260305T103155Z
LAST-MODIFIED:20260306T120635Z
UID:78416-1776794400-1776801600@sardegnaversounesco.org
SUMMARY:Nuraghi. Lo scatto fotografico che riesce a far parlare la bellezza
DESCRIPTION:Alessandro Demartini\, Socio APS La Sardegna verso l’Unesco\nBibi Pinna\, Fotografo\nAlessandra Cossu\, Fotografa
URL:https://sardegnaversounesco.org/evento/nuraghi-lo-scatto-fotografico-che-riesce-a-far-parlare-la-bellezza-2/
LOCATION:Sa Manifattura\, Viale Regina Margherita\, 33\, Cagliari\, CA\, 09125\, Italia
CATEGORIES:Gli appuntamenti dell'Associazione
ATTACH;FMTTYPE=image/jpeg:https://sardegnaversounesco.org/wp-content/uploads/2026/03/15-EGG_Cagliari_21aprile_260301-3.jpg
END:VEVENT
BEGIN:VEVENT
DTSTART;TZID=Europe/Rome:20260422T173000
DTEND;TZID=Europe/Rome:20260422T200000
DTSTAMP:20260421T011139
CREATED:20260305T104232Z
LAST-MODIFIED:20260418T095946Z
UID:78420-1776879000-1776888000@sardegnaversounesco.org
SUMMARY:Curare e conservare per valorizzare: la tutela del patrimonio nuragico
DESCRIPTION:Gianfranco Cocco\, Socio APS La Sardegna verso l’Unesco\nMonica Stochino\, Soprintendente SABAP di Sassari e Nuoro\nGabriella Gasperetti\, Archeologa presso la Soprintendenza SABAP di Sassari e Nuoro
URL:https://sardegnaversounesco.org/evento/curare-e-conservare-per-valorizzare-la-tutela-del-patrimonio-nuragico/
LOCATION:Olba\, Molo Brin\, Olbia\, Italy
CATEGORIES:Gli appuntamenti dell'Associazione
ATTACH;FMTTYPE=image/png:https://sardegnaversounesco.org/wp-content/uploads/2026/03/Screenshot-2026-04-18-alle-11.59.16.png
END:VEVENT
BEGIN:VEVENT
DTSTART;TZID=Europe/Rome:20260423T180000
DTEND;TZID=Europe/Rome:20260423T200000
DTSTAMP:20260421T011139
CREATED:20260413T141843Z
LAST-MODIFIED:20260413T141843Z
UID:79819-1776967200-1776974400@sardegnaversounesco.org
SUMMARY:La civiltà nuragica e la sua importanza per lo sviluppo della Sardegna
DESCRIPTION:Saluti istituzionali\nComune di Mogoro\nLa civiltà nuragica e la sua importanza per lo sviluppo della Sardegna\nPierpaolo Vargiu\, Presidente APS La Sardegna verso l’Unesco\nRiccardo Cicilloni\, Archeologo e Professore Associato di Preistoria presso l’università di\nCagliari (UniCa).\nProgetto infrastrutturale per l’accessibilità\, la fruizione e la\nvalorizzazione dei sito di Cuccurada.\nCarlo Atzeni\, architetto e Professore Ordinario di Architettura Tecnica presso il Dipartimento di\nIngegneria Civile\, Ambientale e Architettura (DICAAR)\nModello di Governance e dispositivi tecnologici.\nIvan Blecic\, Professore Ordinario di Estimo e Direttore del Dipartimento di Ingegneria Civile\,\nAmbientale e Architettura (DICAAR) presso l’università di Cagliari.
URL:https://sardegnaversounesco.org/evento/la-civilta-nuragica-e-la-sua-importanza-per-lo-sviluppo-della-sardegna/
LOCATION:Mogoro\, Sala conferenze Fiera dell’Artigianato\, Mogoro\, Italy
CATEGORIES:Gli appuntamenti dell'Associazione
ATTACH;FMTTYPE=image/png:https://sardegnaversounesco.org/wp-content/uploads/2026/04/Screenshot-2026-04-13-alle-16.15.21.png
END:VEVENT
BEGIN:VEVENT
DTSTART;TZID=Europe/Rome:20260424T173000
DTEND;TZID=Europe/Rome:20260424T200000
DTSTAMP:20260421T011139
CREATED:20260413T075105Z
LAST-MODIFIED:20260413T075132Z
UID:79799-1777051800-1777060800@sardegnaversounesco.org
SUMMARY:Il territorio di Seui in età nuragica: nuove esplorazioni\, nuove scoperte
DESCRIPTION:Edoardo Balzarini\, Socio APS La Sardegna verso l’Unesco\nRiccardo Cicilloni\, Professore di Preistoria e Protostoria UniCa\nStefania Mameli\, Archeologa
URL:https://sardegnaversounesco.org/evento/il-territorio-di-seui-in-eta-nuragica-nuove-esplorazioni-nuove-scoperte/
LOCATION:Serramanna\, Sala Polifunzionale Ex Montegranatico\, Serramanna\, Italy
CATEGORIES:Gli appuntamenti dell'Associazione
ATTACH;FMTTYPE=image/jpeg:https://sardegnaversounesco.org/wp-content/uploads/2026/04/17-EGG_Serramanna_24aprile_260301.jpg
END:VEVENT
BEGIN:VEVENT
DTSTART;TZID=Europe/Rome:20260427T173000
DTEND;TZID=Europe/Rome:20260427T200000
DTSTAMP:20260421T011139
CREATED:20260305T110229Z
LAST-MODIFIED:20260420T144617Z
UID:78424-1777311000-1777320000@sardegnaversounesco.org
SUMMARY:Il Nuraghe e il suo gemello digitale
DESCRIPTION:Sandra Tobia\, Socia APS La Sardegna verso l’Unesco\nEmilio Turco\, Professore di Scienza delle Costruzioni UniSS
URL:https://sardegnaversounesco.org/evento/il-nuraghe-e-il-suo-gemello-digitale/
LOCATION:Sassari 2\, Aula magna Barbieri\, Dipartimento Agraria Univ. Sassari\,\, Sassari\, Italy
CATEGORIES:Gli appuntamenti dell'Associazione
ATTACH;FMTTYPE=image/png:https://sardegnaversounesco.org/wp-content/uploads/2026/03/Screenshot-2026-04-20-alle-16.40.54-scaled.png
END:VEVENT
BEGIN:VEVENT
DTSTART;TZID=Europe/Rome:20260430T173000
DTEND;TZID=Europe/Rome:20260430T200000
DTSTAMP:20260421T011139
CREATED:20260305T111023Z
LAST-MODIFIED:20260306T120720Z
UID:78429-1777570200-1777579200@sardegnaversounesco.org
SUMMARY:Quanti sono i nuraghi? Proviamo a contarli insieme
DESCRIPTION:Pierpaolo Vargiu\, Presidente APS La Sardegna verso l’Unesco\nFabio Pinna\, Professore di Archeologia Pubblica UniCa
URL:https://sardegnaversounesco.org/evento/quanti-sono-i-nuraghi-proviamo-a-contarli-insieme-2/
LOCATION:Nuoro\, Auditorium Biblioteca Sebastiano Satta\, Nuoro\, Italy
CATEGORIES:Gli appuntamenti dell'Associazione
ATTACH;FMTTYPE=image/jpeg:https://sardegnaversounesco.org/wp-content/uploads/2026/03/19-EGG_Nuoro_30aprile_260301.jpg
END:VEVENT
END:VCALENDAR