BEGIN:VCALENDAR
VERSION:2.0
PRODID:-//La Sardegna verso l&#039;Unesco - ECPv6.15.20//NONSGML v1.0//EN
CALSCALE:GREGORIAN
METHOD:PUBLISH
X-WR-CALNAME:La Sardegna verso l&#039;Unesco
X-ORIGINAL-URL:https://sardegnaversounesco.org
X-WR-CALDESC:Eventi per La Sardegna verso l&#039;Unesco
REFRESH-INTERVAL;VALUE=DURATION:PT1H
X-Robots-Tag:noindex
X-PUBLISHED-TTL:PT1H
BEGIN:VTIMEZONE
TZID:Europe/Rome
BEGIN:DAYLIGHT
TZOFFSETFROM:+0100
TZOFFSETTO:+0200
TZNAME:CEST
DTSTART:20240331T010000
END:DAYLIGHT
BEGIN:STANDARD
TZOFFSETFROM:+0200
TZOFFSETTO:+0100
TZNAME:CET
DTSTART:20241027T010000
END:STANDARD
BEGIN:DAYLIGHT
TZOFFSETFROM:+0100
TZOFFSETTO:+0200
TZNAME:CEST
DTSTART:20250330T010000
END:DAYLIGHT
BEGIN:STANDARD
TZOFFSETFROM:+0200
TZOFFSETTO:+0100
TZNAME:CET
DTSTART:20251026T010000
END:STANDARD
BEGIN:DAYLIGHT
TZOFFSETFROM:+0100
TZOFFSETTO:+0200
TZNAME:CEST
DTSTART:20260329T010000
END:DAYLIGHT
BEGIN:STANDARD
TZOFFSETFROM:+0200
TZOFFSETTO:+0100
TZNAME:CET
DTSTART:20261025T010000
END:STANDARD
END:VTIMEZONE
BEGIN:VEVENT
DTSTART;TZID=Europe/Rome:20251119T173000
DTEND;TZID=Europe/Rome:20251119T190000
DTSTAMP:20260420T153133
CREATED:20250909T161105Z
LAST-MODIFIED:20251008T101742Z
UID:69023-1763573400-1763578800@sardegnaversounesco.org
SUMMARY:Ma quanti sono? L'Atlante dei monumenti della civiltà nuragica
DESCRIPTION:Perché La Sardegna verso l’Unesco?\nPierpaolo Vargiu Presidente Associazione \nMa quanti sono? L’Atlante dei monumenti della civiltà nuragica\nEmanuela Abis Socia Associazione\nMarco Cabras e Ilaria Pitzalis Archeologi UniCA Luca Doro e Matteo Pischedda Archeologi UniSS\nEnrica Vecchi Ricercatrice in geomatica UniCA Marco Cigagna Ingegnere in geomatica UniCA
URL:https://sardegnaversounesco.org/evento/ma-quanti-sono-latlante-dei-monumenti-della-civilta-nuragica-3/
LOCATION:olbia\, Via Porto Romano\, 8\, Olbia\, Italy
CATEGORIES:Gli appuntamenti dell'Associazione
ATTACH;FMTTYPE=image/png:https://sardegnaversounesco.org/wp-content/uploads/2025/09/APPUNTAMENTI-OLBIAloghi-19.png
END:VEVENT
END:VCALENDAR