BEGIN:VCALENDAR
VERSION:2.0
PRODID:-//La Sardegna verso l&#039;Unesco - ECPv6.15.20//NONSGML v1.0//EN
CALSCALE:GREGORIAN
METHOD:PUBLISH
X-ORIGINAL-URL:https://sardegnaversounesco.org
X-WR-CALDESC:Eventi per La Sardegna verso l&#039;Unesco
REFRESH-INTERVAL;VALUE=DURATION:PT1H
X-Robots-Tag:noindex
X-PUBLISHED-TTL:PT1H
BEGIN:VTIMEZONE
TZID:Europe/Rome
BEGIN:DAYLIGHT
TZOFFSETFROM:+0100
TZOFFSETTO:+0200
TZNAME:CEST
DTSTART:20240331T010000
END:DAYLIGHT
BEGIN:STANDARD
TZOFFSETFROM:+0200
TZOFFSETTO:+0100
TZNAME:CET
DTSTART:20241027T010000
END:STANDARD
BEGIN:DAYLIGHT
TZOFFSETFROM:+0100
TZOFFSETTO:+0200
TZNAME:CEST
DTSTART:20250330T010000
END:DAYLIGHT
BEGIN:STANDARD
TZOFFSETFROM:+0200
TZOFFSETTO:+0100
TZNAME:CET
DTSTART:20251026T010000
END:STANDARD
BEGIN:DAYLIGHT
TZOFFSETFROM:+0100
TZOFFSETTO:+0200
TZNAME:CEST
DTSTART:20260329T010000
END:DAYLIGHT
BEGIN:STANDARD
TZOFFSETFROM:+0200
TZOFFSETTO:+0100
TZNAME:CET
DTSTART:20261025T010000
END:STANDARD
END:VTIMEZONE
BEGIN:VEVENT
DTSTART;TZID=Europe/Rome:20250601T101500
DTEND;TZID=Europe/Rome:20250601T123000
DTSTAMP:20260421T003806
CREATED:20250430T085025Z
LAST-MODIFIED:20250430T094954Z
UID:58117-1748772900-1748781000@sardegnaversounesco.org
SUMMARY:Complesso nuragico "Genna Maria" - Villanovaforru
DESCRIPTION:Visita al Complesso nuragico “Genna Maria” – Villanovaforru \nRitrovo: ore 10.45 all’ingresso del sito \nVisita: dalle 11 alle 13 \nGuida: dott. Nicola Dessì\, archeologo \nTrasporto: con mezzi propri \nNr. massimo partecipanti: 50 \nPartecipazione: riservata agli “Amici dell’associazione”\n(La partecipazione è riservata agli “Amici della Associazione”. Per chi non lo fosse già\, si comunica che è possibile iscriversi versando 10 euro sul cc IBAN IT 90D0306909606100000401099)
URL:https://sardegnaversounesco.org/evento/complesso-nuragico-genna-maria-villanovaforru/
LOCATION:Complesso nuragico “Genna Maria” – Villanovaforru\, SP49\, Villanovaforru\, SU\, 09020\, Italy
CATEGORIES:Itinerari Nuragici
ATTACH;FMTTYPE=image/jpeg:https://sardegnaversounesco.org/wp-content/uploads/2025/04/genna.jpg
END:VEVENT
END:VCALENDAR