BEGIN:VCALENDAR
VERSION:2.0
PRODID:-//La Sardegna verso l&#039;Unesco - ECPv6.15.20//NONSGML v1.0//EN
CALSCALE:GREGORIAN
METHOD:PUBLISH
X-WR-CALNAME:La Sardegna verso l&#039;Unesco
X-ORIGINAL-URL:https://sardegnaversounesco.org
X-WR-CALDESC:Eventi per La Sardegna verso l&#039;Unesco
REFRESH-INTERVAL;VALUE=DURATION:PT1H
X-Robots-Tag:noindex
X-PUBLISHED-TTL:PT1H
BEGIN:VTIMEZONE
TZID:Europe/Rome
BEGIN:DAYLIGHT
TZOFFSETFROM:+0100
TZOFFSETTO:+0200
TZNAME:CEST
DTSTART:20240331T010000
END:DAYLIGHT
BEGIN:STANDARD
TZOFFSETFROM:+0200
TZOFFSETTO:+0100
TZNAME:CET
DTSTART:20241027T010000
END:STANDARD
BEGIN:DAYLIGHT
TZOFFSETFROM:+0100
TZOFFSETTO:+0200
TZNAME:CEST
DTSTART:20250330T010000
END:DAYLIGHT
BEGIN:STANDARD
TZOFFSETFROM:+0200
TZOFFSETTO:+0100
TZNAME:CET
DTSTART:20251026T010000
END:STANDARD
BEGIN:DAYLIGHT
TZOFFSETFROM:+0100
TZOFFSETTO:+0200
TZNAME:CEST
DTSTART:20260329T010000
END:DAYLIGHT
BEGIN:STANDARD
TZOFFSETFROM:+0200
TZOFFSETTO:+0100
TZNAME:CET
DTSTART:20261025T010000
END:STANDARD
END:VTIMEZONE
BEGIN:VEVENT
DTSTART;TZID=Europe/Rome:20250520T180000
DTEND;TZID=Europe/Rome:20250520T193000
DTSTAMP:20260421T003548
CREATED:20250224T102133Z
LAST-MODIFIED:20250416T100735Z
UID:57454-1747764000-1747769400@sardegnaversounesco.org
SUMMARY:Astronomia e patrimonio culturale: dalle piramidi egizie ai recenti siti Unesco
DESCRIPTION:Intervengono: \nEdoardo Balzarini Socio Associazione\nGiulio Magli Professore di astrofisica Politecnico di Milano
URL:https://sardegnaversounesco.org/evento/astronomia-e-patrimonio-culturale-dalle-piramidi-egizie-ai-recenti-siti-unesco/
LOCATION:Sa Manifattura\, Viale Regina Margherita\, 33\, Cagliari\, CA\, 09125\, Italia
CATEGORIES:Gli appuntamenti dell'Associazione
ATTACH;FMTTYPE=image/png:https://sardegnaversounesco.org/wp-content/uploads/2025/02/WEB-APPUNTAMENTI-CA_20-MAGGIO.png
END:VEVENT
END:VCALENDAR