BEGIN:VCALENDAR
VERSION:2.0
PRODID:-//La Sardegna verso l&#039;Unesco - ECPv6.15.20//NONSGML v1.0//EN
CALSCALE:GREGORIAN
METHOD:PUBLISH
X-ORIGINAL-URL:https://sardegnaversounesco.org
X-WR-CALDESC:Eventi per La Sardegna verso l&#039;Unesco
REFRESH-INTERVAL;VALUE=DURATION:PT1H
X-Robots-Tag:noindex
X-PUBLISHED-TTL:PT1H
BEGIN:VTIMEZONE
TZID:Europe/Rome
BEGIN:DAYLIGHT
TZOFFSETFROM:+0100
TZOFFSETTO:+0200
TZNAME:CEST
DTSTART:20240331T010000
END:DAYLIGHT
BEGIN:STANDARD
TZOFFSETFROM:+0200
TZOFFSETTO:+0100
TZNAME:CET
DTSTART:20241027T010000
END:STANDARD
BEGIN:DAYLIGHT
TZOFFSETFROM:+0100
TZOFFSETTO:+0200
TZNAME:CEST
DTSTART:20250330T010000
END:DAYLIGHT
BEGIN:STANDARD
TZOFFSETFROM:+0200
TZOFFSETTO:+0100
TZNAME:CET
DTSTART:20251026T010000
END:STANDARD
BEGIN:DAYLIGHT
TZOFFSETFROM:+0100
TZOFFSETTO:+0200
TZNAME:CEST
DTSTART:20260329T010000
END:DAYLIGHT
BEGIN:STANDARD
TZOFFSETFROM:+0200
TZOFFSETTO:+0100
TZNAME:CET
DTSTART:20261025T010000
END:STANDARD
END:VTIMEZONE
BEGIN:VEVENT
DTSTART;TZID=Europe/Rome:20250516T180000
DTEND;TZID=Europe/Rome:20250516T193000
DTSTAMP:20260421T003712
CREATED:20250224T101840Z
LAST-MODIFIED:20250319T163546Z
UID:57451-1747418400-1747423800@sardegnaversounesco.org
SUMMARY:Tempi che cambiano. Il nuraghe Palmavera tra archeologia\, restauri e valorizzazione
DESCRIPTION:Intervengono: \nPaolo Tola Socio Associazione\nLuca Doro Archeologo Uniss\nGabriella Gasperetti Archeologa SABAP SS NU\nAlessandra Carrieri Restauratrice SABAP SS NU\nPatrizia Luciana Tomassetti Architetto DRMN Sardegna
URL:https://sardegnaversounesco.org/evento/tempi-che-cambiano-il-nuraghe-palmavera-tra-archeologia-restauri-e-valorizzazione/
LOCATION:Sassari\, via Carlo Alberto\, 7\, Sassari\, Italy
CATEGORIES:Gli appuntamenti dell'Associazione
ATTACH;FMTTYPE=image/png:https://sardegnaversounesco.org/wp-content/uploads/2025/02/WEB-APPUNTAMENTI-SS_16-MAGGIO.png
END:VEVENT
END:VCALENDAR