BEGIN:VCALENDAR
VERSION:2.0
PRODID:-//La Sardegna verso l&#039;Unesco - ECPv6.15.20//NONSGML v1.0//EN
CALSCALE:GREGORIAN
METHOD:PUBLISH
X-WR-CALNAME:La Sardegna verso l&#039;Unesco
X-ORIGINAL-URL:https://sardegnaversounesco.org
X-WR-CALDESC:Eventi per La Sardegna verso l&#039;Unesco
REFRESH-INTERVAL;VALUE=DURATION:PT1H
X-Robots-Tag:noindex
X-PUBLISHED-TTL:PT1H
BEGIN:VTIMEZONE
TZID:Europe/Rome
BEGIN:DAYLIGHT
TZOFFSETFROM:+0100
TZOFFSETTO:+0200
TZNAME:CEST
DTSTART:20230326T010000
END:DAYLIGHT
BEGIN:STANDARD
TZOFFSETFROM:+0200
TZOFFSETTO:+0100
TZNAME:CET
DTSTART:20231029T010000
END:STANDARD
BEGIN:DAYLIGHT
TZOFFSETFROM:+0100
TZOFFSETTO:+0200
TZNAME:CEST
DTSTART:20240331T010000
END:DAYLIGHT
BEGIN:STANDARD
TZOFFSETFROM:+0200
TZOFFSETTO:+0100
TZNAME:CET
DTSTART:20241027T010000
END:STANDARD
BEGIN:DAYLIGHT
TZOFFSETFROM:+0100
TZOFFSETTO:+0200
TZNAME:CEST
DTSTART:20250330T010000
END:DAYLIGHT
BEGIN:STANDARD
TZOFFSETFROM:+0200
TZOFFSETTO:+0100
TZNAME:CET
DTSTART:20251026T010000
END:STANDARD
END:VTIMEZONE
BEGIN:VEVENT
DTSTART;VALUE=DATE:20241129
DTEND;VALUE=DATE:20241130
DTSTAMP:20260421T080056
CREATED:20241111T141425Z
LAST-MODIFIED:20241111T195012Z
UID:56354-1732838400-1732924799@sardegnaversounesco.org
SUMMARY:Civiltà nuragica e Intelligenza Artificiale: dalle pietre alle reti neurali
DESCRIPTION:Il 29 novembre 2024\, a Sa Manifattura a Cagliari\, si terrà la seconda Conferenza internazionale dell’Associazione La Sardegna verso l’Unesco. Una giornata intensa\, un ricco e stimolante programma con ospiti di rilevanza internazionale. \nModera Barbara Carfagna. \nScopri i relatori e il programma dell’evento.
URL:https://sardegnaversounesco.org/evento/civilta-nuragica-e-intelligenza-artificiale-dalle-pietre-alle-reti-neurali/
LOCATION:Sa Manifattura\, Viale Regina Margherita\, 33\, Cagliari\, CA\, 09125\, Italia
CATEGORIES:Conferenza Internazionale
ATTACH;FMTTYPE=image/jpeg:https://sardegnaversounesco.org/wp-content/uploads/2024/11/web_1200x800.jpg
END:VEVENT
END:VCALENDAR